BEGIN:VCALENDAR
VERSION:2.0
PRODID:-//ChamberMaster//Event Calendar 2.0//EN
METHOD:PUBLISH
X-PUBLISHED-TTL:P3D
REFRESH-INTERVAL:P3D
CALSCALE:GREGORIAN
BEGIN:VEVENT
DTSTART:20161111T153000Z
DTEND:20161111T190000Z
X-MICROSOFT-CDO-ALLDAYEVENT:FALSE
SUMMARY:Seacoast Science Center's Veteran’s Day Showcase
DESCRIPTION:School is out\, and we've planned extra special programs for your holiday! Learn how we care for our animals\, become a marine biologist for a day\, and explore Odiorne Point State Park's history and our maritime heritage. You can even register for a squid dissection program. All activities are free with admission\, with the exception of squid dissection ($5). See the full schedule at on the Seacoast Science Center web site. In honor of Veteran's Day\, we are offering free admission to active duty military families and veterans\, thanks to generous sponsorship from Prime Buchholz. The Center will be open from 10am-5pm.
X-ALT-DESC;FMTTYPE=text/html:School is out\, and we&rsquo\;ve planned extra special programs for your holiday! Learn how we care for our animals\, become a marine biologist for a day\, and explore Odiorne Point State Park&rsquo\;s history and our maritime heritage. You can even register for a squid dissection program. All activities are free with admission\, with the exception of squid dissection ($5). See the full schedule at on the Seacoast Science Center web site. In honor of Veteran&rsquo\;s Day\, we are offering free admission to active duty military families and veterans\, thanks to generous sponsorship from Prime Buchholz. The Center will be open from 10am-5pm.
LOCATION:Seacoast Science Center 570 Ocean Blvd\, Rye\, NH
UID:e.1659.27931
SEQUENCE:3
DTSTAMP:20260421T225133Z
URL:https://business.portsmouthchamber.org/events/details/seacoast-science-center-s-veteran-s-day-showcase-27931
END:VEVENT

END:VCALENDAR
