BEGIN:VCALENDAR
VERSION:2.0
PRODID:-//ChamberMaster//Event Calendar 2.0//EN
METHOD:PUBLISH
X-PUBLISHED-TTL:P3D
REFRESH-INTERVAL:P3D
CALSCALE:GREGORIAN
BEGIN:VEVENT
DTSTART:20140804T210000Z
DTEND:20140805T010000Z
X-MICROSOFT-CDO-ALLDAYEVENT:FALSE
SUMMARY:SENH Habitat for Humanity
DESCRIPTION:Please come join us at Flatbread Pizza in Portsmouth on Congress Street. We are having a fundraiser there on August 5 starting at 5pm.  A percentage of the proceeds will go to local home building for families in need! So please come support us!
X-ALT-DESC;FMTTYPE=text/html:Please come join us at Flatbread Pizza in Portsmouth on Congress Street. We are having a fundraiser there on August 5 starting at 5pm. &nbsp\;A percentage of the proceeds will go to local home building for families in need! So please come support us!
LOCATION:Flatbread Pizza in Portsmouth 138 Congress Street
UID:e.1659.2804
SEQUENCE:3
DTSTAMP:20260419T174015Z
URL:https://business.portsmouthchamber.org/events/details/senh-habitat-for-humanity-08-04-2014-2804
END:VEVENT

END:VCALENDAR
