BEGIN:VCALENDAR
VERSION:2.0
PRODID:-//ChamberMaster//Event Calendar 2.0//EN
METHOD:PUBLISH
X-PUBLISHED-TTL:P3D
REFRESH-INTERVAL:P3D
CALSCALE:GREGORIAN
BEGIN:VEVENT
DTSTART:20140924T220000Z
DTEND:20140925T000000Z
X-MICROSOFT-CDO-ALLDAYEVENT:FALSE
SUMMARY:SENH Habitat for Humanity
DESCRIPTION:Please join us a Alex and Ani on Congress Street in Portsmouth for a Charity by Design evening. Refreshments will be served. 15% of all sales will go directly to Southeast New Hampshire Habitat for Humanity.
X-ALT-DESC;FMTTYPE=text/html:Please join us a Alex and Ani on Congress Street in Portsmouth for a Charity by Design evening. Refreshments will be served. 15% of all sales will go directly to Southeast New Hampshire Habitat for Humanity.
LOCATION:Alex and Ani\, 104 Congress Street\, Portsmouth\, NH
UID:e.1659.2961
SEQUENCE:3
DTSTAMP:20260419T174301Z
URL:https://business.portsmouthchamber.org/events/details/senh-habitat-for-humanity-09-24-2014-2961
END:VEVENT

END:VCALENDAR
