BEGIN:VCALENDAR
VERSION:2.0
PRODID:-//ChamberMaster//Event Calendar 2.0//EN
METHOD:PUBLISH
X-PUBLISHED-TTL:P3D
REFRESH-INTERVAL:P3D
CALSCALE:GREGORIAN
BEGIN:VEVENT
DTSTART:20141104T220000Z
DTEND:20141105T010000Z
X-MICROSOFT-CDO-ALLDAYEVENT:FALSE
SUMMARY:SENH Habitat for Humanity and Pretty Poppy
DESCRIPTION:Come join SENH Habitat for Humanity at Pretty Poppy for a fabulous fundraising event. 20% of items purchased will go to help build houses in Southern New Hampshire! Refreshments will be served.
X-ALT-DESC;FMTTYPE=text/html:Come join SENH Habitat for Humanity at Pretty Poppy for a fabulous fundraising event. 20% of items purchased will go to help build houses in Southern New Hampshire! Refreshments will be served.
LOCATION:Pretty Poppy\, 47 Market Street\, Portsmouth\, NH
UID:e.1659.3457
SEQUENCE:3
DTSTAMP:20260419T133738Z
URL:https://business.portsmouthchamber.org/events/details/senh-habitat-for-humanity-and-pretty-poppy-11-04-2014-3457
END:VEVENT

END:VCALENDAR
