BEGIN:VCALENDAR
VERSION:2.0
PRODID:-//ChamberMaster//Event Calendar 2.0//EN
METHOD:PUBLISH
X-PUBLISHED-TTL:P3D
REFRESH-INTERVAL:P3D
CALSCALE:GREGORIAN
BEGIN:VEVENT
DTSTART:20140920T230000Z
DTEND:20140921T020000Z
X-MICROSOFT-CDO-ALLDAYEVENT:FALSE
SUMMARY:September Shebang!
DESCRIPTION:The Children's Museum of NH is celebrating the relaunch of its iconic Yellow Submarine exhibit with an adults-only party in the museum. Guests will be among the first see all the improvements to the Yellow Sub\, including new navigation system with 3D technology and an immersive undersea environment. Heavy hors d'oeuvres will be provided by local restaurants and a signature cocktail will be featured. Live entertainment will be provided by The Spectras\, a legendary Granite State band known for their huge repertoire of dance music. This will be The Spectras last-ever appearance before retiring. Tickets to the September Shebang are $50 each and can be purchase online at www.childrens-museum.org.
X-ALT-DESC;FMTTYPE=text/html:<span style="font-family:gotham rounded book\;">The Children&#39\;s Museum of NH is celebrating the relaunch of its iconic Yellow Submarine exhibit with an adults-only party in the museum. Guests will be among the first see all the improvements to the Yellow Sub\, including new navigation system with 3D technology and an immersive undersea environment. Heavy hors d&#39\;oeuvres will be provided by local restaurants and a signature cocktail will be featured. Live entertainment will be provided by The Spectras\, a legendary Granite State band known for their huge repertoire of dance music. This will be The Spectras last-ever appearance before retiring. Tickets to the September Shebang are $50 each and can be purchase online at </span><a href="http://www.childrens-museum.org"><span style="font-family:gotham rounded book\;">www.childrens-museum.org</span></a><span style="font-family:gotham rounded book\;">.</span><br />\n&nbsp\;
LOCATION:Children's Museum of NH\, 6 Washington Street\, Dover
UID:e.1659.2982
SEQUENCE:3
DTSTAMP:20260419T160816Z
URL:https://business.portsmouthchamber.org/events/details/september-shebang-09-20-2014-2982
END:VEVENT

END:VCALENDAR
