BEGIN:VCALENDAR
VERSION:2.0
PRODID:-//ChamberMaster//Event Calendar 2.0//EN
METHOD:PUBLISH
X-PUBLISHED-TTL:P3D
REFRESH-INTERVAL:P3D
CALSCALE:GREGORIAN
BEGIN:VEVENT
DTSTART:20161104T123000Z
DTEND:20161104T133000Z
X-MICROSOFT-CDO-ALLDAYEVENT:FALSE
SUMMARY:Service Credit Union Morning Mixer
DESCRIPTION:Join your fellow Greater Portsmouth Chamber of Commerce members for a morning of networking and great coffee.  This great opportunity to meet new members and reconnect with old is presented by Service Credit Union and hosted by La Maison Navarre.
X-ALT-DESC;FMTTYPE=text/html:<span style="line-height: 20.8px\;">Join your fellow Greater Portsmouth Chamber of Commerce members for a morning of networking and great coffee. &nbsp\;This great opportunity to meet new members and reconnect with old is presented by Service Credit Union and hosted by La&nbsp\;</span>Maison<span style="line-height: 20.8px\;">&nbsp\;</span>Navarre<span style="line-height: 20.8px\;">.</span>
LOCATION:La Maison Navarre 121 Congress Street Portsmouth\, NH 03801
UID:e.1659.27697
SEQUENCE:3
DTSTAMP:20260421T225120Z
URL:https://business.portsmouthchamber.org/events/details/service-credit-union-morning-mixer-27697
END:VEVENT

END:VCALENDAR
