BEGIN:VCALENDAR
VERSION:2.0
PRODID:-//ChamberMaster//Event Calendar 2.0//EN
METHOD:PUBLISH
X-PUBLISHED-TTL:P3D
REFRESH-INTERVAL:P3D
CALSCALE:GREGORIAN
BEGIN:VEVENT
DTSTART:20170514T160000Z
DTEND:20170514T193000Z
X-MICROSOFT-CDO-ALLDAYEVENT:FALSE
SUMMARY:Shearwater invites you to a Mother's Day Brunch Buffet overlooking the Ocean
DESCRIPTION:Oceanfront Mother's Day Brunch Buffet\n\n\nalso includes many Breakfast Items\n\nRoasted Pork Loin\n\nginger garlic sauce\n\nBaked Haddock\n\nfocaccia bread crumbs   buerre blanc   slow roasted tomatoes\n\nOven Roasted Salmon\n\nwatercress salad   amba honey sauce\n\nPrime Rib au Jus\n\nChicken Ballotine\n\npancetta and wild mushrooms   orange chicken jus\n\nOmelet Station\n\nGulf Shrimp Cocktail \n\nMaine Clam Chowder\n\nCurry Vegetable Soup\n\nCous Cous Salad\n\nGarlic Mashed Potatoes\n\nFried Rice\n\nVegetable Medley\n\n \n\nDessert Station\n\n\n\n\nreservations are urged\, 207 363 3850 x 407
X-ALT-DESC;FMTTYPE=text/html:<h1 style="text-align: center\;">Oceanfront Mother&#39\;s Day Brunch Buffet</h1>\n\n<div style="text-align: center\;">\n<h3><em>also includes many Breakfast Items</em></h3>\n\n<p><strong>Roasted Pork Loin</strong><br />\nginger garlic sauce</p>\n\n<p><strong>Baked Haddock</strong><br />\nfocaccia bread crumbs &bull\; buerre blanc &bull\; slow roasted tomatoes</p>\n\n<p><strong>Oven Roasted Salmon</strong><br />\nwatercress salad &bull\; amba honey sauce</p>\n\n<p><strong>Prime Rib au Jus</strong></p>\n\n<p><strong>Chicken Ballotine</strong><br />\npancetta and wild mushrooms &bull\; orange chicken jus</p>\n\n<p><strong>Omelet Station</strong></p>\n\n<p><strong>Gulf Shrimp Cocktail </strong></p>\n\n<p><strong>Maine Clam Chowder</strong></p>\n\n<p><strong>Curry Vegetable Soup</strong></p>\n\n<p><strong>Cous Cous Salad</strong></p>\n\n<p><strong>Garlic Mashed Potatoes</strong></p>\n\n<p><strong>Fried Rice</strong></p>\n\n<p><strong>Vegetable Medley</strong></p>\n\n<p>&nbsp\;</p>\n\n<p><strong>Dessert Station</strong></p>\n<br />\n<br />\n<em>reservations are urged\, 207 363 3850 x 407</em></div>\n
LOCATION:Shearwater at Stage Neck Inn\, 8 Stage Neck Road\, York Harbor\, ME 03911
UID:e.1659.30974
SEQUENCE:3
DTSTAMP:20260421T132301Z
URL:https://business.portsmouthchamber.org/events/details/shearwater-invites-you-to-a-mother-s-day-brunch-buffet-overlooking-the-ocean-30974
END:VEVENT

END:VCALENDAR
