BEGIN:VCALENDAR
VERSION:2.0
PRODID:-//ChamberMaster//Event Calendar 2.0//EN
METHOD:PUBLISH
X-PUBLISHED-TTL:P3D
REFRESH-INTERVAL:P3D
CALSCALE:GREGORIAN
BEGIN:VEVENT
DTSTART:20170514T120000Z
DTEND:20170514T140000Z
X-MICROSOFT-CDO-ALLDAYEVENT:FALSE
SUMMARY:Shearwater invites you to an Oceanfront Mother's Day Breakfast Brunch
DESCRIPTION:Oceanfront Mother's Day Breakfast Brunch\n\n\nScrambled Eggs \n\nTraditional Eggs Benedict\n\nChef's Special Eggs Benedict of the Day\n\nHomefries   Bacon   Sausage\n\nHash\n\nSNI French Toast\n\nDonuts   Muffins   Breakfast Pastries\n\nAssorted Fruit Bar   Cold Cereals\n\nJuices   Coffee   Tea\n\n\nreservations are urged
X-ALT-DESC;FMTTYPE=text/html:<h1 style="text-align: center\;">Oceanfront Mother&#39\;s Day Breakfast Brunch</h1>\n\n<div style="text-align: center\;">\n<p><strong>Scrambled Eggs </strong></p>\n\n<p><strong>Traditional Eggs Benedict</strong></p>\n\n<p><strong>Chef&#39\;s Special Eggs Benedict of the Day</strong></p>\n\n<p><strong>Homefries &bull\; Bacon &bull\; Sausage</strong></p>\n\n<p><strong>Hash</strong></p>\n\n<p><strong>SNI French Toast</strong></p>\n\n<p><strong>Donuts &bull\; Muffins &bull\; Breakfast Pastries</strong></p>\n\n<p><strong>Assorted Fruit Bar &bull\; Cold Cereals</strong></p>\n\n<p><strong>Juices &bull\; Coffee &bull\; Tea</strong></p>\n<br />\n<em>reservations are urged</em></div>\n
LOCATION:Shearwater at Stage Neck Inn\, 8 Stage Neck Road\, York Harbor\, ME 03911
UID:e.1659.30973
SEQUENCE:3
DTSTAMP:20260421T131954Z
URL:https://business.portsmouthchamber.org/events/details/shearwater-invites-you-to-an-oceanfront-mother-s-day-breakfast-brunch-30973
END:VEVENT

END:VCALENDAR
