BEGIN:VCALENDAR
VERSION:2.0
PRODID:-//ChamberMaster//Event Calendar 2.0//EN
METHOD:PUBLISH
X-PUBLISHED-TTL:P3D
REFRESH-INTERVAL:P3D
CALSCALE:GREGORIAN
BEGIN:VEVENT
DTSTART;VALUE=DATE:20170503
DTEND;VALUE=DATE:20170514
TRANSP:TRANSPARENT
X-MICROSOFT-CDO-ALLDAYEVENT:TRUE
SUMMARY:Sheraton Portsmouth Harborside Hotel invites you to Mother's Day
DESCRIPTION:Celebrate Mother's Day at the Sheraton Harborside Portsmouth Hotel\n\n\n\nGrand Brunch Buffet - Seating at 10:00 AM\, 12:00 PM and 2:00 PM - Call 603-559-2629\n\n\n\n250 Market Pre-Fixed Luncheon - Reservations from 11:00 AM - 3:00 PM - Call 603-559-2629 or Log on to Opentable.com
X-ALT-DESC;FMTTYPE=text/html:Celebrate Mother&#39\;s Day at the Sheraton Harborside Portsmouth Hotel<br />\n<br />\nGrand Brunch Buffet - Seating at 10:00 AM\, 12:00 PM and 2:00 PM - Call 603-559-2629<br />\n<br />\n250 Market Pre-Fixed Luncheon - Reservations from 11:00 AM - 3:00 PM - Call 603-559-2629 or Log on to Opentable.com<br />\n&nbsp\;
LOCATION:Sheraton Portsmouth Harborside Hotel 250 Market Street Portsmouth\, New Hampshire 03801
UID:e.1659.31000
SEQUENCE:3
DTSTAMP:20260421T121833Z
URL:https://business.portsmouthchamber.org/events/details/sheraton-portsmouth-harborside-hotel-invites-you-to-mother-s-day-31000
END:VEVENT

END:VCALENDAR
