BEGIN:VCALENDAR
VERSION:2.0
PRODID:-//ChamberMaster//Event Calendar 2.0//EN
METHOD:PUBLISH
X-PUBLISHED-TTL:P3D
REFRESH-INTERVAL:P3D
CALSCALE:GREGORIAN
BEGIN:VEVENT
DTSTART;VALUE=DATE:20161021
DTEND;VALUE=DATE:20161022
TRANSP:TRANSPARENT
X-MICROSOFT-CDO-ALLDAYEVENT:TRUE
SUMMARY:Sheraton Portsmouth Harborside Hotel is hosting the Hats off for Hospice
DESCRIPTION:Cornerstone VNA will be hosting Hats off for Hospice\, a special dinner and silent auction event on Friday\, October 21\, 2016 at the Sheraton Portsmouth Harborside Hotel in Portsmouth\, NH. Proceeds from this fundraising event will be used to support the many grateful patients receiving Hospice Care from Cornerstone VNA.\n\n\n\nIn addition to dinner\, guests will enjoy delectable hors d'oeuvres while browsing an array of auction items that will include a collection of seasonal hats and unique items and experiences related to Spring\, Summer\, Winter and Fall. During the event\, we will also be collecting new or handmade hats and scarves\, which will be donated to cancer treatment facilities in our region.
X-ALT-DESC;FMTTYPE=text/html:Cornerstone VNA will be hosting Hats off for Hospice\, a special dinner and silent auction event on Friday\, October 21\, 2016 at the Sheraton Portsmouth Harborside Hotel in Portsmouth\, NH. Proceeds from this fundraising event will be used to support the many grateful patients receiving Hospice Care from Cornerstone VNA.<br />\n<br />\nIn addition to dinner\, guests will enjoy delectable hors d&#39\;oeuvres while browsing an array of auction items that will include a collection of seasonal hats and unique items and experiences related to Spring\, Summer\, Winter and Fall. During the event\, we will also be collecting new or handmade hats and scarves\, which will be donated to cancer treatment facilities in our region.
LOCATION:Sheraton Portsmouth Harborside Hotel
UID:e.1659.18207
SEQUENCE:3
DTSTAMP:20260421T225529Z
URL:https://business.portsmouthchamber.org/events/details/sheraton-portsmouth-harborside-hotel-is-hosting-the-hats-off-for-hospice-18207
END:VEVENT

END:VCALENDAR
