BEGIN:VCALENDAR
VERSION:2.0
PRODID:-//ChamberMaster//Event Calendar 2.0//EN
METHOD:PUBLISH
X-PUBLISHED-TTL:P3D
REFRESH-INTERVAL:P3D
CALSCALE:GREGORIAN
BEGIN:VEVENT
DTSTART:20161021T220000Z
DTEND:20161022T020000Z
X-MICROSOFT-CDO-ALLDAYEVENT:FALSE
SUMMARY:Sheraton Portsmouth Harborside Hotel will be hosting Hats Off for Hospice
DESCRIPTION:Hats off for Hospice is a special dinner and silent auction event on Friday\, October 21\, 2016 at 6pm at the Sheraton Portsmouth Harborside Hotel in Portsmouth\, NH. Proceeds from this fundraising event will be used to support the many grateful patients receiving Hospice Care from Cornerstone VNA. In addition to dinner and entertainment\, guests will enjoy delectable hors d'oeuvres while browsing an array of auction items that will include a collection of seasonal hats and unique items and experiences related to Spring\, Summer\, Winter and Fall. During the event\, we will also be collecting new or handmade hats and scarves\, which will be donated to cancer treatment facilities in our region.
X-ALT-DESC;FMTTYPE=text/html:Hats off for Hospice is a special dinner and silent auction event on Friday\, October 21\, 2016 at 6pm at the Sheraton Portsmouth Harborside Hotel in Portsmouth\, NH. Proceeds from this fundraising event will be used to support the many grateful patients receiving Hospice Care from Cornerstone VNA. In addition to dinner and entertainment\, guests will enjoy delectable hors d&rsquo\;oeuvres while browsing an array of auction items that will include a collection of seasonal hats and unique items and experiences related to Spring\, Summer\, Winter and Fall. During the event\, we will also be collecting new or handmade hats and scarves\, which will be donated to cancer treatment facilities in our region.
LOCATION:Sheraton Portsmouth Harborside Hotel 250 Market St\, Portsmouth\, NH 03801
UID:e.1659.25919
SEQUENCE:3
DTSTAMP:20260421T225431Z
URL:https://business.portsmouthchamber.org/events/details/sheraton-portsmouth-harborside-hotel-will-be-hosting-hats-off-for-hospice-25919
END:VEVENT

END:VCALENDAR
