BEGIN:VCALENDAR
VERSION:2.0
PRODID:-//ChamberMaster//Event Calendar 2.0//EN
METHOD:PUBLISH
X-PUBLISHED-TTL:P3D
REFRESH-INTERVAL:P3D
CALSCALE:GREGORIAN
BEGIN:VEVENT
DTSTART:20161204T140000Z
DTEND:20161204T170000Z
X-MICROSOFT-CDO-ALLDAYEVENT:FALSE
SUMMARY:Sheraton Portsmouth invites you to a Santa Brunch!
DESCRIPTION:Join the Sheraton in celebrating the Christmas season at brunch with Santa. There will be a full brunch buffet\, and you and your family will get an opportunity to have a meet and greet with Santa Claus!
X-ALT-DESC;FMTTYPE=text/html:Join the Sheraton in celebrating the Christmas season at brunch with Santa. There will be a full brunch buffet\, and you and your family will get an opportunity to have a meet and greet with Santa Claus!
LOCATION:Sheraton Portsmouth 250 Market St. Portsmouth
UID:e.1659.28164
SEQUENCE:3
DTSTAMP:20260421T195729Z
URL:https://business.portsmouthchamber.org/events/details/sheraton-portsmouth-invites-you-to-a-santa-brunch-28164
END:VEVENT

END:VCALENDAR
