BEGIN:VCALENDAR
VERSION:2.0
PRODID:-//ChamberMaster//Event Calendar 2.0//EN
METHOD:PUBLISH
X-PUBLISHED-TTL:P3D
REFRESH-INTERVAL:P3D
CALSCALE:GREGORIAN
BEGIN:VEVENT
DTSTART:20170604T150000Z
DTEND:20170604T220000Z
X-MICROSOFT-CDO-ALLDAYEVENT:FALSE
SUMMARY:Shop Portsmouth Day
DESCRIPTION:A shopping extravaganza you won't want to miss!\n\n\n\nOver 50 shops\, boutiques\, and galleries in downtown Portsmouth are throwing open their doors and offering extraordinary sales and events during this all day affair. Look for the white flowers around town to signify which shops are participating.
X-ALT-DESC;FMTTYPE=text/html:A shopping extravaganza you won&#39\;t want to miss!<br />\n<br />\nOver 50 shops\, boutiques\, and galleries in downtown Portsmouth are throwing open their doors and offering extraordinary sales and events during this all day affair. Look for the white flowers around town to signify which shops are participating.&nbsp\;<br />\n
LOCATION:Portsmouth\, NH
UID:e.1659.31623
SEQUENCE:3
DTSTAMP:20260419T120358Z
URL:https://business.portsmouthchamber.org/events/details/shop-portsmouth-day-31623
END:VEVENT

END:VCALENDAR
