BEGIN:VCALENDAR
VERSION:2.0
PRODID:-//ChamberMaster//Event Calendar 2.0//EN
METHOD:PUBLISH
X-PUBLISHED-TTL:P3D
REFRESH-INTERVAL:P3D
CALSCALE:GREGORIAN
BEGIN:VEVENT
DTSTART:20140821T210000Z
DTEND:20140821T230000Z
X-MICROSOFT-CDO-ALLDAYEVENT:FALSE
SUMMARY:SHRA Summer Networking Event
DESCRIPTION:Join us for some fantastic food\, views and drinks- meet and mingle with other SHRA members and enter to win some great raffle items.  Please feel free to bring anyone you feel would be interested in joining SHRA\, this is a great opportunity for them to meet other members and learn more about what we do.\n\n  This is a FREE event\, please register at www.shranh.org
X-ALT-DESC;FMTTYPE=text/html:<span class="ccfontupdated"><span style="FONT-SIZE: 10pt\; FONT-FAMILY: &quot\;Arial&quot\;\,&quot\;sans-serif&quot\;\; COLOR: black">Join us for some fantastic food\, views and drinks- meet and mingle with other SHRA members and enter to win some great raffle items.&nbsp\; Please feel free to bring anyone you feel would be interested in joining SHRA\, this is a great opportunity for them to meet other members and learn more about what we do.</span><br />\n<span style="color:#0000FF\;"><span style="font-size: 10pt\; font-family: Arial\, sans-serif\;"><strong>&nbsp\;&nbsp\;This is a&nbsp\;</strong></span></span></span><strong><span style="color:#0000FF\;"><span style="font-size: 10pt\; font-family: Arial\, sans-serif\;">FREE&nbsp\;</span><span class="ccfontupdated"><span style="font-size: 10pt\; font-family: Arial\, sans-serif\;">event\, please register at&nbsp\;</span></span></span><a href="http://www.shranh.org/" title="http://www.shranh.org/"><span style="color:#0000FF\;">www.shranh.org</span></a></strong>
LOCATION:100 Club 100 Market Street Suite 500 Portsmouth\, NH
UID:e.1659.2229
SEQUENCE:3
DTSTAMP:20260419T173736Z
URL:https://business.portsmouthchamber.org/events/details/shra-summer-networking-event-08-21-2014-2229
END:VEVENT

END:VCALENDAR
