BEGIN:VCALENDAR
VERSION:2.0
PRODID:-//ChamberMaster//Event Calendar 2.0//EN
METHOD:PUBLISH
X-PUBLISHED-TTL:P3D
REFRESH-INTERVAL:P3D
CALSCALE:GREGORIAN
BEGIN:VEVENT
DTSTART:20150203T223000Z
DTEND:20150204T020000Z
X-MICROSOFT-CDO-ALLDAYEVENT:FALSE
SUMMARY:Shuck-A-Buck
DESCRIPTION:$1 Oysters every Tuesday night at Jumpin' Jay's Fish Cafe!
X-ALT-DESC;FMTTYPE=text/html:$1 Oysters every Tuesday night at Jumpin' Jay's Fish Cafe!
LOCATION:Jumpin' Jay's Fish Cafe
UID:e.1659.3025
SEQUENCE:3
DTSTAMP:20260419T134445Z
URL:https://business.portsmouthchamber.org/events/details/shuck-a-buck-02-03-2015-3025
END:VEVENT

END:VCALENDAR
