BEGIN:VCALENDAR
VERSION:2.0
PRODID:-//ChamberMaster//Event Calendar 2.0//EN
METHOD:PUBLISH
X-PUBLISHED-TTL:P3D
REFRESH-INTERVAL:P3D
CALSCALE:GREGORIAN
BEGIN:VEVENT
DTSTART:20131001T213000Z
DTEND:20131002T013000Z
X-MICROSOFT-CDO-ALLDAYEVENT:FALSE
SUMMARY:Shuck-A-Buck Returns!
DESCRIPTION:Jumpin' Jay's $1 Oyster nights return on Tuesday\, October 1st!
X-ALT-DESC;FMTTYPE=text/html:Jumpin&#39\; Jay&#39\;s $1 Oyster nights return on Tuesday\, October 1st!
LOCATION:Jumpin' Jay's Fish Cafe
UID:e.1659.576
SEQUENCE:3
DTSTAMP:20260420T072403Z
URL:https://business.portsmouthchamber.org/events/details/shuck-a-buck-returns-10-01-2013-576
END:VEVENT

END:VCALENDAR
