BEGIN:VCALENDAR
VERSION:2.0
PRODID:-//ChamberMaster//Event Calendar 2.0//EN
METHOD:PUBLISH
X-PUBLISHED-TTL:P3D
REFRESH-INTERVAL:P3D
CALSCALE:GREGORIAN
BEGIN:VEVENT
DTSTART:20260131T190000Z
DTEND:20260131T200000Z
X-MICROSOFT-CDO-ALLDAYEVENT:FALSE
SUMMARY:SIGNATURE: Seacoast Skating with the Stars
DESCRIPTION:Seacoast Skating with the Stars Saturday\, January 31\, 2026\, 2-3 PM Weather date: Sunday\, February 1\, 2026\, 11 AM-12 PM Strawbery Banke Museum\, in partnership with Ice Dance International\, presents Seacoast Skating with the Stars (SSWTS) professional skating show. Watch skating routines by local "stars" paired with professional skaters from Ice Dance International. Choreographed by Douglas Webster\, Ice Dance International & Labrie Family Skate at Puddle Dock Pond Artistic Director\, local "stars" are paired with IDI pros in a skate-off for audience votes. As in "Dancing with the Stars\," esteemed judges give their marks on skill and expression. Seacoast Skating with the Stars also includes performances by the IDI company.
X-ALT-DESC;FMTTYPE=text/html:Seacoast Skating with the Stars Saturday\, January 31\, 2026\, 2-3 PM Weather date: Sunday\, February 1\, 2026\, 11 AM-12 PM Strawbery Banke Museum\, in partnership with Ice Dance International\, presents Seacoast Skating with the Stars (SSWTS) professional skating show. Watch skating routines by local &quot\;stars&quot\; paired with professional skaters from Ice Dance International. Choreographed by Douglas Webster\, Ice Dance International &amp\; Labrie Family Skate at Puddle Dock Pond Artistic Director\, local &quot\;stars&quot\; are paired with IDI pros in a skate-off for audience votes. As in &ldquo\;Dancing with the Stars\,&rdquo\; esteemed judges give their marks on skill and expression. Seacoast Skating with the Stars also includes performances by the IDI company.
LOCATION:Strawbery Banke Museum 14 Hancock Street\, Portsmouth\, NH
UID:e.1659.86890
SEQUENCE:3
DTSTAMP:20260423T091904Z
URL:https://business.portsmouthchamber.org/events/details/signature-seacoast-skating-with-the-stars-86890
END:VEVENT

END:VCALENDAR
