BEGIN:VCALENDAR
VERSION:2.0
PRODID:-//ChamberMaster//Event Calendar 2.0//EN
METHOD:PUBLISH
X-PUBLISHED-TTL:P3D
REFRESH-INTERVAL:P3D
CALSCALE:GREGORIAN
BEGIN:VEVENT
DTSTART:20161203T230000Z
DTEND:20161204T020000Z
X-MICROSOFT-CDO-ALLDAYEVENT:FALSE
SUMMARY:Silver Fountain presents A Christmas Carol Dinner
DESCRIPTION:Start off the month and get right in to the holiday spirit with Charles Dickins "A Christmas Carol" as it comes to life during your 5 course dinner here at the inn! Theatre Unmasked will be performing this Christmas classic 6 separate nights this holiday season\n\n\n\nAlso offering room accommodations for guests with dinner tickets at a 20% discount. Please alert us in the note section if you prefer a vegetarian option   most of our selections are gluten free.\n\n\n\nThe menu for this event is Bacon Wrapped Scallops\, Brie & Pomegranate Rounds\, with Pesto Cream Cheese Stuffed Crudites\, followed by Carrot Orange Ginger Soup and a Blue Cheese\, Pear\, and Candied Pecan Salad\, the main course is Pork Roast\, Cranberry Glazed Chicken\, Creamy Potatoes\, Green Beans w/shallots and finished with Apple Dumplings & Cream.
X-ALT-DESC;FMTTYPE=text/html:Start off the month and get right in to the holiday spirit with Charles Dickins &ldquo\;A Christmas Carol&rdquo\; as it comes to life during your 5 course dinner here at the inn! Theatre Unmasked will be performing this Christmas classic 6 separate nights this holiday season<br />\n<br />\nAlso offering room accommodations for guests with dinner tickets at a 20% discount. Please alert us in the note section if you prefer a vegetarian option &ndash\; most of our selections are gluten free.<br />\n<br />\nThe menu for this event is Bacon Wrapped Scallops\, Brie &amp\; Pomegranate Rounds\, with Pesto Cream Cheese Stuffed Crudites\, followed by Carrot Orange Ginger Soup and a Blue Cheese\, Pear\, and Candied Pecan Salad\, the main course is Pork Roast\, Cranberry Glazed Chicken\, Creamy Potatoes\, Green Beans w/shallots and finished with Apple Dumplings &amp\; Cream.
LOCATION:The Silver Fountain Inn & Tea Parlor 103 Silver Street\, Dover
UID:e.1659.28159
SEQUENCE:3
DTSTAMP:20260421T193103Z
URL:https://business.portsmouthchamber.org/events/details/silver-fountain-presents-a-christmas-carol-dinner-12-03-2016-28159
END:VEVENT

END:VCALENDAR
