BEGIN:VCALENDAR
VERSION:2.0
PRODID:-//ChamberMaster//Event Calendar 2.0//EN
METHOD:PUBLISH
X-PUBLISHED-TTL:P3D
REFRESH-INTERVAL:P3D
CALSCALE:GREGORIAN
BEGIN:VEVENT
DTSTART:20130811T140000Z
DTEND:20130811T200000Z
X-MICROSOFT-CDO-ALLDAYEVENT:FALSE
SUMMARY:Slow Food Seacoast Edible Garden Tour and Gala
DESCRIPTION:Slow Food Seacoast\, in partnership with the Piscataqua Garden Club and Strawbery Banke Museum\, present a tour of 15 amazing gardens with edible components in their landscape. Take inspiration from NH Seacoast area gardeners who have integrated fruits\, nuts\, herbs\, heirloom veggies\, bees and rare-breed chickens into their yards in sustainable and creative ways that will help you imagine your own back yard. Tour includes historic\, community\, school\, and exceptional private gardens in Portsmouth and New Castle\, NH. Purchase tickets online at slowfoodseacoast.givezooks.com/events/edible-garden-tour or at Strawbery Banke Museum (Ports)\, Rolling Green Nursery (Greenland) or Wentworth Greenhouses (Rollinsford) cash or check only. Event supports Slow Food Seacoast's efforts to preserve and educate people about regional heirloom biodiversity and its sponsorship of local school gardens. A biking or car self-guided tour.
X-ALT-DESC;FMTTYPE=text/html:Slow Food Seacoast\, in partnership with the Piscataqua Garden Club and Strawbery Banke Museum\, present a tour of 15 amazing gardens with edible components in their landscape. Take inspiration from NH Seacoast area gardeners who have integrated fruits\, nuts\, herbs\, heirloom veggies\, bees and rare-breed chickens into their yards in sustainable and creative ways that will help you imagine your own back yard. Tour includes historic\, community\, school\, and exceptional private gardens in Portsmouth and New Castle\, NH. Purchase tickets online at slowfoodseacoast.givezooks.com/events/edible-garden-tour or at Strawbery Banke Museum (Ports)\, Rolling Green Nursery (Greenland) or Wentworth Greenhouses (Rollinsford) cash or check only. Event supports Slow Food Seacoast&#39\;s efforts to preserve and educate people about regional heirloom biodiversity and its sponsorship of local school gardens. A biking or car self-guided tour.
LOCATION:Begin at Strawbery Banke Museum\, 14 Hancock Street\, Portsmouth\, NH. Tours\, Map\, Heirloom Seeds Giveaway
UID:e.1659.523
SEQUENCE:3
DTSTAMP:20260420T101749Z
URL:https://business.portsmouthchamber.org/events/details/slow-food-seacoast-edible-garden-tour-and-gala-08-11-2013-523
END:VEVENT

END:VCALENDAR
