BEGIN:VCALENDAR
VERSION:2.0
PRODID:-//ChamberMaster//Event Calendar 2.0//EN
METHOD:PUBLISH
X-PUBLISHED-TTL:P3D
REFRESH-INTERVAL:P3D
CALSCALE:GREGORIAN
BEGIN:VEVENT
DTSTART:20160316T220000Z
DTEND:20160317T010000Z
X-MICROSOFT-CDO-ALLDAYEVENT:FALSE
SUMMARY:Small Business Finance: What You Need to Know
DESCRIPTION:Whether you're just starting out or have been in business for a while\, this workshop for the small business owner will help you explore what you need to know about business finances from figuring out your break-even point to raising money to start or grow your business.   Thanks to the generous support of our sponsor\, TD Bank\, this workshop is free of charge. For more information or to reserve a seat\, call SCORE at 603-433-0575 or visit our website at seacoast.score.org.
X-ALT-DESC;FMTTYPE=text/html:Whether you&#39\;re just starting out or have been in business for a while\, this workshop for the small business owner will help you explore what you need to know about business finances from figuring out your break-even point to raising money to start or grow your business. &gt\; Thanks to the generous support of our sponsor\, TD Bank\, this workshop is free of charge. For more information or to reserve a seat\, call SCORE at 603-433-0575 or visit our website at seacoast.score.org.
LOCATION:SCORE Office 215 Commerce Way Suite 420 Portsmouth\, NH 03801
UID:e.1659.16738
SEQUENCE:3
DTSTAMP:20260420T150210Z
URL:https://business.portsmouthchamber.org/events/details/small-business-finance-what-you-need-to-know-03-16-2016-16738
END:VEVENT

END:VCALENDAR
