BEGIN:VCALENDAR
VERSION:2.0
PRODID:-//ChamberMaster//Event Calendar 2.0//EN
METHOD:PUBLISH
X-PUBLISHED-TTL:P3D
REFRESH-INTERVAL:P3D
CALSCALE:GREGORIAN
BEGIN:VEVENT
DTSTART:20161016T170000Z
DTEND:20161016T210000Z
X-MICROSOFT-CDO-ALLDAYEVENT:FALSE
SUMMARY:Smuttynose Brewing Company's Smuttoctoberfset
DESCRIPTION:Live music from Soggy Po' Boys and Harsh Armadillo \n	Field games for everyone to enjoy\n	A casual\, backyard atmosphere that's family friendly\n	Delicious Food! Clyde's Cupcakes\, Hayseed\, our neighbors The Old Salt\, and Flatbread Company's mobile pizza oven will be serving up their best grub.\n	A wonderful selection of Smuttynose and Smuttlabs beers featuring fall releases- Pumpkin Ale\, Oktoberfest and Peach Short Weisse alongside Vunderbar Pilsner\, Finestkind IPA\, Ol' Grundy Humper\, Granite State Destroyer and Smoked Cherry Short Weisse \n\nDon't miss the return of New England beer writer Norman Miller's "Best Beer Event" of 2015! Buy your tickets in person at Smuttynose\, Portsmouth Brewery and Hayseed or reserve them online. Don't forget to let us know you're coming on our Event Page.
X-ALT-DESC;FMTTYPE=text/html:<ul>\n	<li>Live music from Soggy Po&#39\; Boys and Harsh Armadillo&nbsp\;</li>\n	<li>Field games for everyone to enjoy</li>\n	<li>A casual\, backyard atmosphere that&#39\;s family friendly</li>\n	<li>Delicious Food! Clyde&#39\;s Cupcakes\, Hayseed\, our neighbors The Old Salt\, and Flatbread Company&#39\;s mobile pizza oven will be serving up their best grub.</li>\n	<li>A wonderful selection of Smuttynose and Smuttlabs beers featuring fall releases- Pumpkin Ale\, Oktoberfest and Peach Short Weisse alongside Vunderbar Pilsner\, Finestkind IPA\, Ol&#39\; Grundy Humper\, Granite State Destroyer and Smoked Cherry Short Weisse&#8203\;</li>\n</ul>\nDon&#39\;t miss the return of New England beer writer Norman Miller&#39\;s &quot\;Best Beer Event&quot\; of 2015! Buy your tickets in person at Smuttynose\, Portsmouth Brewery and Hayseed or reserve them online. Don&#39\;t forget to let us know you&#39\;re coming on our Event Page.
LOCATION:Smuttynose Brewing Co. 105 Towle Farm Rd\, Hampton\, New Hampshire 03842
UID:e.1659.25886
SEQUENCE:3
DTSTAMP:20260421T225310Z
URL:https://business.portsmouthchamber.org/events/details/smuttynose-brewing-company-s-smuttoctoberfset-25886
END:VEVENT

END:VCALENDAR
