BEGIN:VCALENDAR
VERSION:2.0
PRODID:-//ChamberMaster//Event Calendar 2.0//EN
METHOD:PUBLISH
X-PUBLISHED-TTL:P3D
REFRESH-INTERVAL:P3D
CALSCALE:GREGORIAN
BEGIN:VEVENT
DTSTART:20170226T170000Z
DTEND:20170226T200000Z
X-MICROSOFT-CDO-ALLDAYEVENT:FALSE
SUMMARY:Smuttynose Hotter Then Hell Brunch at The Blue Mermaid
DESCRIPTION:4 course Brunch with beer pairings\, $45 includes tax and tip!\n\n\n\nMenu and Beer List:\n\n	1st Course: Serano Bacon Cheddar Scone. Paired with Smuttynose Finestkind IPA\n	2nd Course: Chipotle Braised Lamb Breakfast Taco. Paired with Smuttlabs Ginger Beer\n	3rd Course: Jamaican Jerk Chicken & Waffles. Paired with 2010 Smuttynose Wheat Wine\n	Dessert: Coconut Dulce de Leche Crepes. Paired with Smuttlabs Stallion Imperial Stout\n	Time: 12:00 to 3:00 PM.
X-ALT-DESC;FMTTYPE=text/html:4 course Brunch with beer pairings\, $45 includes tax and tip!<br />\n<br />\nMenu and Beer List:\n<ul>\n	<li>1st Course: Serano Bacon Cheddar Scone. Paired with Smuttynose Finestkind IPA</li>\n	<li>2nd Course: Chipotle Braised Lamb Breakfast Taco. Paired with Smuttlabs Ginger Beer</li>\n	<li>3rd Course: Jamaican Jerk Chicken &amp\; Waffles. Paired with 2010 Smuttynose Wheat Wine</li>\n	<li>Dessert: Coconut Dulce de Leche Crepes. Paired with Smuttlabs Stallion Imperial Stout</li>\n	<li>Time: 12:00 to 3:00 PM.</li>\n</ul>\n
LOCATION:The Blue Mermaid 409 The Hill\, Portsmouth
UID:e.1659.30028
SEQUENCE:3
DTSTAMP:20260421T164135Z
URL:https://business.portsmouthchamber.org/events/details/smuttynose-hotter-then-hell-brunch-at-the-blue-mermaid-30028
END:VEVENT

END:VCALENDAR
