BEGIN:VCALENDAR
VERSION:2.0
PRODID:-//ChamberMaster//Event Calendar 2.0//EN
METHOD:PUBLISH
X-PUBLISHED-TTL:P3D
REFRESH-INTERVAL:P3D
CALSCALE:GREGORIAN
BEGIN:VEVENT
DTSTART:20251207T003000Z
DTEND:20251207T020000Z
X-MICROSOFT-CDO-ALLDAYEVENT:FALSE
SUMMARY:South Church hosts Con Tutti Concert : The Christmas Pudding Wassail
DESCRIPTION:Con Tutti ushers in the season\, wassailing\, singing and celebrating! The men and women of Con Tutti will sing their solstice concert\, "The Christmas Pudding Wassail!" on December 6\, at 7:30 p.m. at South Church\, 292 State Street in Portsmouth. "Would you enjoy beloved carols\, a shape note tune\, a lively South African Song of Christmas Celebration\, songs of peace\, hope and reflection.....all the ingredients for joy\, laughter\, and capturing the spirit of the season?" asks Con Tutti director\, Joanne Connolly. "We've having so much fun creating a concert of the traditional\, and the not so very traditional celebrations of the small island Scottish town of Mingulay\,\," continues Connolly. "Our concert will discover what happens when a Christmas Pudding goes rogue\, and the Strange Men of Minch help save the day." Connolly collected stories and songs of Scotland earlier this year on a singing tour of the Scottish Isles. "The land\, the people\, and their stories and myths were so inspiring\, " she shares. "I've loved exploring them for this concert!" Tony Lee will be on hand as the storyteller. There will be new creations by artist Nancy Sander. Jonny Peiffer will offer up some great African percussion\, and keyboard playing. And Jim Prendergast with his trio on guitar\, fiddle\, and upright bass will be there to pump up the music from the British Isles! Don't miss "The Christmas Pudding Wassail!" on December 6 at 7:30 p.m. at South Church\, 292 State St in Portsmouth! Tickets are $20.00 and are on sale now online   www.contutti.org. Any remaining tickets will be sold at the door. Door opens 30 minutes before concert time. Don't miss this kick off to Portsmouth's holiday season! Get your tickets while they last!
X-ALT-DESC;FMTTYPE=text/html:Con Tutti ushers in the season\, wassailing\, singing and celebrating! The men and women of Con Tutti will sing their solstice concert\, &ldquo\;The Christmas Pudding Wassail!&rdquo\; on December 6\, at 7:30 p.m. at South Church\, 292 State Street in Portsmouth. &quot\;Would you enjoy beloved carols\, a shape note tune\, a lively South African Song of Christmas Celebration\, songs of peace\, hope and reflection.....all the ingredients for joy\, laughter\, and capturing the spirit of the season?&quot\; asks Con Tutti director\, Joanne Connolly. &quot\;We&#39\;ve having so much fun creating a concert of the traditional\, and the not so very traditional celebrations of the small island Scottish town of Mingulay\,\,&quot\; continues Connolly. &quot\;Our concert will discover what happens when a Christmas Pudding goes rogue\, and the Strange Men of Minch help save the day.&quot\; Connolly collected stories and songs of Scotland earlier this year on a singing tour of the Scottish Isles. &quot\;The land\, the people\, and their stories and myths were so inspiring\, &quot\; she shares. &quot\;I&#39\;ve loved exploring them for this concert!&quot\; Tony Lee will be on hand as the storyteller. There will be new creations by artist Nancy Sander. Jonny Peiffer will offer up some great African percussion\, and keyboard playing. And Jim Prendergast with his trio on guitar\, fiddle\, and upright bass will be there to pump up the music from the British Isles! Don&rsquo\;t miss &ldquo\;The Christmas Pudding Wassail!&rdquo\; on December 6 at 7:30 p.m. at South Church\, 292 State St in Portsmouth! Tickets are $20.00 and are on sale now online &ndash\; www.contutti.org. Any remaining tickets will be sold at the door. Door opens 30 minutes before concert time. Don&rsquo\;t miss this kick off to Portsmouth&rsquo\;s holiday season! Get your tickets while they last!
LOCATION:South Church\, 292 State St\, Portsmouth\, NH
UID:e.1659.86904
SEQUENCE:3
DTSTAMP:20260423T133804Z
URL:https://business.portsmouthchamber.org/events/details/south-church-hosts-con-tutti-concert-the-christmas-pudding-wassail-86904
END:VEVENT

END:VCALENDAR
