BEGIN:VCALENDAR
VERSION:2.0
PRODID:-//ChamberMaster//Event Calendar 2.0//EN
METHOD:PUBLISH
X-PUBLISHED-TTL:P3D
REFRESH-INTERVAL:P3D
CALSCALE:GREGORIAN
BEGIN:VEVENT
DTSTART:20161029T233000Z
DTEND:20161030T013000Z
X-MICROSOFT-CDO-ALLDAYEVENT:FALSE
SUMMARY:South Church Presents a Silent Movie with Live\, Scary Organ Improvisation!
DESCRIPTION:It promises to be a deliciously scary pre-Halloween evening when renowned South African pipe organist Zorada Temmingh performs an improvised soundtrack live during screening of the 1925 silent horror masterpiece\, The Phantom of the Opera\, at South Church\, 292 State Street\, on Saturday\, October 29 at 7:30 PM. This unique opportunity allows attendees to experience a superb musical performance while viewing a time honored classic the way it was meant to be seen when first released. Imagine the dark\, ominous organ music as backdrop for Lon Chaney's spine-tingling performance as the menacing\, fang-toothed phantom lurking beneath the Paris Opera House! Known for her boundary breaking approach to classical music\, the organist\, Ms. Temmingh\, has received critical and popular acclaim for her silent film organ improvisations. She has released five CDs and performs internationally\, and at many prestigious music festivals. Ms. Temmingh looks forward to performing at South Church with its near perfect acoustics and soaring organ.
X-ALT-DESC;FMTTYPE=text/html:It promises to be a deliciously scary pre-Halloween evening when renowned South African pipe organist Zorada Temmingh performs an improvised soundtrack live during screening of the 1925 silent horror masterpiece\, The Phantom of the Opera\, at South Church\, 292 State Street\, on Saturday\, October 29 at 7:30 PM. This unique opportunity allows attendees to experience a superb musical performance while viewing a time honored classic the way it was meant to be seen when first released. Imagine the dark\, ominous organ music as backdrop for Lon Chaney&rsquo\;s spine-tingling performance as the menacing\, fang-toothed phantom lurking beneath the Paris Opera House! Known for her boundary breaking approach to classical music\, the organist\, Ms. Temmingh\, has received critical and popular acclaim for her silent film organ improvisations. She has released five CDs and performs internationally\, and at many prestigious music festivals. Ms. Temmingh looks forward to performing at South Church with its near perfect acoustics and soaring organ.
LOCATION:South Church\, 292 State Street\, Portsmouth\, NH
UID:e.1659.25890
SEQUENCE:3
DTSTAMP:20260421T225734Z
URL:https://business.portsmouthchamber.org/events/details/south-church-presents-a-silent-movie-with-live-scary-organ-improvisation-25890
END:VEVENT

END:VCALENDAR
