BEGIN:VCALENDAR
VERSION:2.0
PRODID:-//ChamberMaster//Event Calendar 2.0//EN
METHOD:PUBLISH
X-PUBLISHED-TTL:P3D
REFRESH-INTERVAL:P3D
CALSCALE:GREGORIAN
BEGIN:VEVENT
DTSTART:20161119T210000Z
DTEND:20161119T223000Z
X-MICROSOFT-CDO-ALLDAYEVENT:FALSE
SUMMARY:South Church: Voices from the Heart sings “Joy Returning!”
DESCRIPTION:Voices from the Heart sings "Joy Returning!" with 200 a cappella women's voices. Director\, Joanne Connolly\, takes the audience on a musical world tour to South Africa\, Croatia\, Scotland\, the Torres Islands\, Nigeria\, the Congo\, and back home to the U.S. From a Zulu song of celebration\, to a Cape Town song and dance announcing who we are\, from a Southern Gospel arrangement of "Amazing Grace" to a sweet Croatian lullaby\, from a beautiful American love song\, to a Scottish jazzy ballad that asks to be granted wings to fly above "this poor sorry world'.......the songs are sure to lift the heart and be a balm for the spirit.
X-ALT-DESC;FMTTYPE=text/html:Voices from the Heart sings &ldquo\;Joy Returning!&rdquo\; with 200 a cappella women&#39\;s voices. Director\, Joanne Connolly\, takes the audience on a musical world tour to South Africa\, Croatia\, Scotland\, the Torres Islands\, Nigeria\, the Congo\, and back home to the U.S. From a Zulu song of celebration\, to a Cape Town song and dance announcing who we are\, from a Southern Gospel arrangement of &ldquo\;Amazing Grace&rdquo\; to a sweet Croatian lullaby\, from a beautiful American love song\, to a Scottish jazzy ballad that asks to be granted wings to fly above &ldquo\;this poor sorry world&#39\;.......the songs are sure to lift the heart and be a balm for the spirit.
LOCATION:South Church 292 State Street Portsmouth\, NH
UID:e.1659.27967
SEQUENCE:3
DTSTAMP:20260421T212944Z
URL:https://business.portsmouthchamber.org/events/details/south-church-voices-from-the-heart-sings-joy-returning-27967
END:VEVENT

END:VCALENDAR
