BEGIN:VCALENDAR
VERSION:2.0
PRODID:-//ChamberMaster//Event Calendar 2.0//EN
METHOD:PUBLISH
X-PUBLISHED-TTL:P3D
REFRESH-INTERVAL:P3D
CALSCALE:GREGORIAN
BEGIN:VEVENT
DTSTART:20141219T150000Z
DTEND:20141219T190000Z
X-MICROSOFT-CDO-ALLDAYEVENT:FALSE
SUMMARY:Southeast New Hampshire Habitat for Humanity
DESCRIPTION:Ten Thousand Villages and Southeast New Hampshire Habitat for Humanity have teamed up for a fabulous fundraiser. 15% of all purchases from 10am-2pm at Ten Thousand Villages will go to Southeast New Hampshire Habitat to help build homes for local families!
X-ALT-DESC;FMTTYPE=text/html:Ten Thousand Villages and Southeast New Hampshire Habitat for Humanity have teamed up for a fabulous fundraiser. 15% of all purchases from 10am-2pm at Ten Thousand Villages will go to Southeast New Hampshire Habitat to help build homes for local families!
LOCATION:87 Congress Street\, Portsmouth\, NH
UID:e.1659.5613
SEQUENCE:3
DTSTAMP:20260419T133721Z
URL:https://business.portsmouthchamber.org/events/details/southeast-new-hampshire-habitat-for-humanity-12-19-2014-5613
END:VEVENT

END:VCALENDAR
