BEGIN:VCALENDAR
VERSION:2.0
PRODID:-//ChamberMaster//Event Calendar 2.0//EN
METHOD:PUBLISH
X-PUBLISHED-TTL:P3D
REFRESH-INTERVAL:P3D
CALSCALE:GREGORIAN
BEGIN:VEVENT
DTSTART:20160310T220000Z
DTEND:20160311T020000Z
X-MICROSOFT-CDO-ALLDAYEVENT:FALSE
SUMMARY:Southeast New Hampshire Habitat for Humanity Annual Ask Event
DESCRIPTION:Join Southeast New Hampshire Habitat for Humanity at their Annual Ask Event held at the beautiful One Hundred Club. Refreshments will be served.
X-ALT-DESC;FMTTYPE=text/html:Join Southeast New Hampshire Habitat for Humanity at their Annual Ask Event held at the beautiful One Hundred Club. Refreshments will be served.
LOCATION:The One Hundred Club\, 100 Market Street Portsmouth\, NH 03801
UID:e.1659.12907
SEQUENCE:3
DTSTAMP:20260420T150046Z
URL:https://business.portsmouthchamber.org/events/details/southeast-new-hampshire-habitat-for-humanity-annual-ask-event-03-10-2016-12907
END:VEVENT

END:VCALENDAR
