BEGIN:VCALENDAR
VERSION:2.0
PRODID:-//ChamberMaster//Event Calendar 2.0//EN
METHOD:PUBLISH
X-PUBLISHED-TTL:P3D
REFRESH-INTERVAL:P3D
CALSCALE:GREGORIAN
BEGIN:VEVENT
DTSTART;VALUE=DATE:20140913
DTEND;VALUE=DATE:20140914
TRANSP:TRANSPARENT
X-MICROSOFT-CDO-ALLDAYEVENT:TRUE
SUMMARY:Special Sails
DESCRIPTION:Join in on the celebration of the visiting tall ships\, topsail schnooer Mystic and America's privateer Lynx during Sail Portsmouth on weekends offered by the Gundalow Company.  Learn about the vessel\, maritime history\, environment of the Piscataqua region with interactive stations of marine life\, watersheds\, art of the sailor and knot tying in Prescott Park\, Free. Bring family and friends to enjoy the show or go on special short sails. Tickets Available.
X-ALT-DESC;FMTTYPE=text/html:<span style="background: white\;"><span style="font-size: 12pt\;"><span style="font-family: arial\,sans-serif\;"><span style="color: black\;">Join in on the celebration of the visiting tall ships\, topsail schnooer Mystic and America&rsquo\;s privateer Lynx during Sail Portsmouth on weekends offered by the Gundalow Company. &nbsp\;Learn about the vessel\, maritime history\, environment of the Piscataqua region with interactive stations of marine life\, watersheds\, art of the sailor and knot tying in Prescott Park\, Free. Bring family and friends to enjoy the show or go on special short sails. Tickets Available. </span></span></span></span>
LOCATION:Office: 60 Marcy Street\, Portsmouth
UID:e.1659.2789
SEQUENCE:3
DTSTAMP:20260419T160644Z
URL:https://business.portsmouthchamber.org/events/details/special-sails-09-13-2014-2789
END:VEVENT

END:VCALENDAR
