BEGIN:VCALENDAR
VERSION:2.0
PRODID:-//ChamberMaster//Event Calendar 2.0//EN
METHOD:PUBLISH
X-PUBLISHED-TTL:P3D
REFRESH-INTERVAL:P3D
CALSCALE:GREGORIAN
BEGIN:VEVENT
DTSTART:20160312T143000Z
DTEND:20160312T200000Z
X-MICROSOFT-CDO-ALLDAYEVENT:FALSE
SUMMARY:St. Paddy's Run Before You Crawl 5K Road Race and Pub Crawl
DESCRIPTION:Run\, walk or crawl but don't miss the opportunity to participate in the Dover Race Series 2016 kickoff event. Dover Main Street is pleased to announce that registration is now open for the Run Before You Crawl 5K Race and Pub Crawl being held On Saturday\, March 12\, 2016. This popular event is underwritten by DF Richard and sponsored by Relyco\, TrainRiders Northeast\, Kennebunk Savings Bank\, Federal Savings Bank and Holy Rosary Credit Union. Cost is $40 to participate in both the 5K and Pub Crawl or runners can participate in the 5K only for $25 per adult and $10 per child (12 years of age and under.) Not a runner? Not to worry. The option to participate in the Pub Crawl portion of the event only is also available. For $20 per person\, enjoy a sampling of food from 14 local establishments between 11am and 3pm on race day. This event begins at the Dover Transportation Center located at 33 Chestnut Street. Registration starts at 8am\, the race begins at 9:30am. Race packets and crawl bracelets can be picked up ahead of time at the per-registration being held at the Transportation Center\, Friday\, March 11\, between 4pm and 7pm. For more information or to register for this event visit www.runb4ucrawl.com.
X-ALT-DESC;FMTTYPE=text/html:Run\, walk or crawl but don&#39\;t miss the opportunity to participate in the Dover Race Series 2016 kickoff event. Dover Main Street is pleased to announce that registration is now open for the Run Before You Crawl 5K Race and Pub Crawl being held On Saturday\, March 12\, 2016. This popular event is underwritten by DF Richard and sponsored by Relyco\, TrainRiders Northeast\, Kennebunk Savings Bank\, Federal Savings Bank and Holy Rosary Credit Union. Cost is $40 to participate in both the 5K and Pub Crawl or runners can participate in the 5K only for $25 per adult and $10 per child (12 years of age and under.) Not a runner? Not to worry. The option to participate in the Pub Crawl portion of the event only is also available. For $20 per person\, enjoy a sampling of food from 14 local establishments between 11am and 3pm on race day. This event begins at the Dover Transportation Center located at 33 Chestnut Street. Registration starts at 8am\, the race begins at 9:30am. Race packets and crawl bracelets can be picked up ahead of time at the per-registration being held at the Transportation Center\, Friday\, March 11\, between 4pm and 7pm. For more information or to register for this event visit www.runb4ucrawl.com.
LOCATION:Dover Transportation Center 33 Chestnut Street Dover\, NH 03820
UID:e.1659.15936
SEQUENCE:3
DTSTAMP:20260420T145734Z
URL:https://business.portsmouthchamber.org/events/details/st-paddy-s-run-before-you-crawl-5k-road-race-and-pub-crawl-03-12-2016-15936
END:VEVENT

END:VCALENDAR
