BEGIN:VCALENDAR
VERSION:2.0
PRODID:-//ChamberMaster//Event Calendar 2.0//EN
METHOD:PUBLISH
X-PUBLISHED-TTL:P3D
REFRESH-INTERVAL:P3D
CALSCALE:GREGORIAN
BEGIN:VEVENT
DTSTART:20170621T170000Z
DTEND:20170621T220000Z
X-MICROSOFT-CDO-ALLDAYEVENT:FALSE
SUMMARY:Star Island presents a Bread & Puppet Theater Performance
DESCRIPTION:World renowned Bread & Puppet Theater will be performing on Star Island! The Bread and Puppet production on Star Island\, the "Overtakelessness Circus"\, is inspired by a poem of Emily Dickenson\, "The Overtakelessness of Those." The performance showcases a group of stone-age technology puppeteers\, brass players\, and percussionists who highlight the prominent forward-moving passions and politics of our capitalist culture.The "Overtakelessness Circus" is driven by the Bread and Puppet Brass Band\, playing from the Dixieland Jazz tradition. Expected in attendance will be corporate overlords\, tigers and clouds\, Zeus\, Kasper\, a few frogs\, and Emily Dickinson. After the performance\, the audience is welcome to stay and check out all the masks and puppets. Join us for the day! You will have time to explore the island\, Oceanic Hotel and have a picnic lunch or a snack on the front lawn. Our Gosport Grill and snack bar will be open with items for purchases\, Wednesday\, June 21 1:00 PM - Boat departs Portsmouth 2:30 PM - Performance begins 5:00 PM - Boat departs Star Island
X-ALT-DESC;FMTTYPE=text/html:World renowned Bread &amp\; Puppet Theater will be performing on Star Island! The Bread and Puppet production on Star Island\, the &quot\;Overtakelessness Circus&quot\;\, is inspired by a poem of Emily Dickenson\, &quot\;The Overtakelessness of Those.&quot\; The performance showcases a group of stone-age technology puppeteers\, brass players\, and percussionists who highlight the prominent forward-moving passions and politics of our capitalist culture.The &quot\;Overtakelessness Circus&quot\; is driven by the Bread and Puppet Brass Band\, playing from the Dixieland Jazz tradition. Expected in attendance will be corporate overlords\, tigers and clouds\, Zeus\, Kasper\, a few frogs\, and Emily Dickinson. After the performance\, the audience is welcome to stay and check out all the masks and puppets. Join us for the day! You will have time to explore the island\, Oceanic Hotel and have a picnic lunch or a snack on the front lawn. Our Gosport Grill and snack bar will be open with items for purchases\, Wednesday\, June 21 1:00 PM - Boat departs Portsmouth 2:30 PM - Performance begins 5:00 PM - Boat departs Star Island
LOCATION:Star Island\, Isles of Shoals
UID:e.1659.31619
SEQUENCE:3
DTSTAMP:20260421T115747Z
URL:https://business.portsmouthchamber.org/events/details/star-island-presents-a-bread-puppet-theater-performance-31619
END:VEVENT

END:VCALENDAR
