BEGIN:VCALENDAR
VERSION:2.0
PRODID:-//ChamberMaster//Event Calendar 2.0//EN
METHOD:PUBLISH
X-PUBLISHED-TTL:P3D
REFRESH-INTERVAL:P3D
CALSCALE:GREGORIAN
BEGIN:VEVENT
DTSTART:20170226T190000Z
DTEND:20170226T220000Z
X-MICROSOFT-CDO-ALLDAYEVENT:FALSE
SUMMARY:Stoneface Brewing Company: "Kegs\, Dart Legs\, and Scotch Night"
DESCRIPTION:The event will include multiple Stoneface beers and a special Stoneface beer on Cask.\n\n\n\nBeer List \n\n	Stoneface IPA\n	Stoneface Mozaccalypse\n	Stoneface Double Clip\n	AND a special Stoneface Cask
X-ALT-DESC;FMTTYPE=text/html:The event will include multiple Stoneface beers and a special Stoneface beer on Cask.<br />\n<br />\nBeer List&nbsp\;\n<ul>\n	<li>Stoneface IPA</li>\n	<li>Stoneface Mozaccalypse</li>\n	<li>Stoneface Double Clip</li>\n	<li>AND a special Stoneface Cask&nbsp\;</li>\n</ul>\n
LOCATION:Coat of Arms 174 Fleet St\, Portsmouth
UID:e.1659.30029
SEQUENCE:3
DTSTAMP:20260421T164134Z
URL:https://business.portsmouthchamber.org/events/details/stoneface-brewing-company-kegs-dart-legs-and-scotch-night-30029
END:VEVENT

END:VCALENDAR
