BEGIN:VCALENDAR
VERSION:2.0
PRODID:-//ChamberMaster//Event Calendar 2.0//EN
METHOD:PUBLISH
X-PUBLISHED-TTL:P3D
REFRESH-INTERVAL:P3D
CALSCALE:GREGORIAN
BEGIN:VEVENT
DTSTART;VALUE=DATE:20170224
DTEND;VALUE=DATE:20170225
TRANSP:TRANSPARENT
X-MICROSOFT-CDO-ALLDAYEVENT:TRUE
SUMMARY:Stoneface Brewing Company kicks of Portsmouth Beer Week!
DESCRIPTION:Stoneface Brewing Company kicks off Portsmouth Beer Week with your favorite Seacoast breweries at Whym in Portsmouth\, NH
X-ALT-DESC;FMTTYPE=text/html:Stoneface Brewing Company kicks off&nbsp\;Portsmouth Beer Week with your favorite Seacoast breweries at Whym in Portsmouth\, NH
LOCATION:WHYM Craft Beer Cafe 3548 Lafayette Rd\, Portsmouth
UID:e.1659.30008
SEQUENCE:3
DTSTAMP:20260421T164441Z
URL:https://business.portsmouthchamber.org/events/details/stoneface-brewing-company-kicks-of-portsmouth-beer-week-30008
END:VEVENT

END:VCALENDAR
