BEGIN:VCALENDAR
VERSION:2.0
PRODID:-//ChamberMaster//Event Calendar 2.0//EN
METHOD:PUBLISH
X-PUBLISHED-TTL:P3D
REFRESH-INTERVAL:P3D
CALSCALE:GREGORIAN
BEGIN:VEVENT
DTSTART:20131019T150000Z
DTEND:20131020T190000Z
X-MICROSOFT-CDO-ALLDAYEVENT:FALSE
SUMMARY:Stonewall Kitchen Autumn Celebration
DESCRIPTION:Afternoon of delicious seasonal samples and fun activities including Gifford's Ice Cream Sampling (Saturday Only\, While Supplies Last)\, games\, giveaways\, music and more! Plus\, two informational sessions each day: Fall Flower Arranging\, 12:00 - 12:30 p.m. and How to Make a Scarecrow\, 1:30 - 2:30 p.m
X-ALT-DESC;FMTTYPE=text/html:Afternoon of delicious seasonal samples and fun activities including Gifford&#39\;s Ice Cream Sampling (Saturday Only\, While Supplies Last)\, games\, giveaways\, music and more! Plus\, two informational sessions each day: Fall Flower Arranging\, 12:00 - 12:30 p.m. and How to Make a Scarecrow\, 1:30 - 2:30 p.m
LOCATION:Stonewall Kitchen Headquarters\, 2 Stonewall Lane\, York\, Maine 03909
UID:e.1659.720
SEQUENCE:3
DTSTAMP:20260420T071205Z
URL:https://business.portsmouthchamber.org/events/details/stonewall-kitchen-autumn-celebration-10-19-2013-720
END:VEVENT

END:VCALENDAR
