BEGIN:VCALENDAR
VERSION:2.0
PRODID:-//ChamberMaster//Event Calendar 2.0//EN
METHOD:PUBLISH
X-PUBLISHED-TTL:P3D
REFRESH-INTERVAL:P3D
CALSCALE:GREGORIAN
BEGIN:VEVENT
DTSTART:20260117T150000Z
DTEND:20260117T180000Z
X-MICROSOFT-CDO-ALLDAYEVENT:FALSE
SUMMARY:Stratham Winter Farmers Market
DESCRIPTION:Our winter farmers' markets are made up of 40+ vendors who sell fruit\, vegetables\, meat\, seafood\, eggs\, honey\, maple syrup\, baked goods\, value-added foods\, hot prepared food\, crafts\, and body care products. We also host live music\, nonprofits\, and other community-focused guests at the markets\, creating a space to celebrate and uplift our community's change-makers!
X-ALT-DESC;FMTTYPE=text/html:Our winter farmers&#39\; markets are made up of 40+ vendors who sell fruit\, vegetables\, meat\, seafood\, eggs\, honey\, maple syrup\, baked goods\, value-added foods\, hot prepared food\, crafts\, and body care products. We also host live music\, nonprofits\, and other community-focused guests at the markets\, creating a space to celebrate and uplift our community&#39\;s change-makers!
LOCATION:Cooperative Middle School 100 Academic Way Stratham\, NH
UID:e.1659.88445
SEQUENCE:3
DTSTAMP:20260423T102024Z
URL:https://business.portsmouthchamber.org/events/details/stratham-winter-farmers-market-88445
END:VEVENT

END:VCALENDAR
