BEGIN:VCALENDAR
VERSION:2.0
PRODID:-//ChamberMaster//Event Calendar 2.0//EN
METHOD:PUBLISH
X-PUBLISHED-TTL:P3D
REFRESH-INTERVAL:P3D
CALSCALE:GREGORIAN
BEGIN:VEVENT
DTSTART:20161020T170000Z
DTEND:20161020T190000Z
X-MICROSOFT-CDO-ALLDAYEVENT:FALSE
SUMMARY:Strawbery Banke Museum: Fun in the Sukkah
DESCRIPTION:Temple Israel in Portsmouth presents an opportunity for the public to learn about the Jewish holiday of Sukkot and to celebrate with an afternoon of song\, crafts and refreshments on Thursday October 20th from 1 to 3 pm at Strawbery Banke Museum. The "Fun in the Sukkah" festival is free and open to the public and takes place on the lawn at the Shapiro House\, one of the homes in the Strawbery Banke Puddle Dock neighborhood\, interpreted as a Jewish Ukrainian household in 1919. The "Fun in the Sukkah" event is sponsored by the National Jewish Outreach Program as part of their Sukkot Across America Celebration\, and Temple Israel\, Portsmouth\, NH.
X-ALT-DESC;FMTTYPE=text/html:Temple Israel in Portsmouth presents an opportunity for the public to learn about the Jewish holiday of Sukkot and to celebrate with an afternoon of song\, crafts and refreshments on Thursday October 20th from 1 to 3 pm at Strawbery Banke Museum. The &ldquo\;Fun in the Sukkah&rdquo\; festival is free and open to the public and takes place on the lawn at the Shapiro House\, one of the homes in the Strawbery Banke Puddle Dock neighborhood\, interpreted as a Jewish Ukrainian household in 1919. The &ldquo\;Fun in the Sukkah&rdquo\; event is sponsored by the National Jewish Outreach Program as part of their Sukkot Across America Celebration\, and Temple Israel\, Portsmouth\, NH.
LOCATION:Strawbery Banke Museum 14 Hancock st\, Portsmouth
UID:e.1659.27633
SEQUENCE:3
DTSTAMP:20260421T225302Z
URL:https://business.portsmouthchamber.org/events/details/strawbery-banke-museum-fun-in-the-sukkah-27633
END:VEVENT

END:VCALENDAR
