BEGIN:VCALENDAR
VERSION:2.0
PRODID:-//ChamberMaster//Event Calendar 2.0//EN
METHOD:PUBLISH
X-PUBLISHED-TTL:P3D
REFRESH-INTERVAL:P3D
CALSCALE:GREGORIAN
BEGIN:VEVENT
DTSTART:20161030T210000Z
DTEND:20161030T234500Z
X-MICROSOFT-CDO-ALLDAYEVENT:FALSE
SUMMARY:Strawbery Banke Museum: Masques on the Banke Equestrian Enchantment
DESCRIPTION:This 2-hour event offers several short performances of "Behind the Mask" featuring the majestic black Friesian horses of Runnymede Farm as they perform their equestrian ballet. Come and go at leisure to catch a performance\, meet the horses and riders and enjoy the sparkling fire dances of Wick'd Fire. Plus\, children can take home a hand-crafted mask of your own!\n\n\n\n5:30 - "Behind the Mask" - Historic Runnymede Farm performs synchronized             moves onboard Friesian horses\, to mysterious music - in beautiful             costumes.\n\n5:35 - Meet the horses and riders of Historic Runnymede Farm.\n\n5:45 - Make your own mask   Kids can create their own masquerade-style face            mask just like the riders from Runnymede Farm. Continues all evening.\n\n6:00 - Wick'd Fire performs high energy feats of beauty and daring with Fire             Parasol\, Fire Poi\, Fan and Staff\n\n6:30 - "Behind the Mask"\n\n6:35 - Meet the horses and riders\n\n5:45 - Make your own mask\n\n6:00 - Wick'd Fire\n\n7:30 - "Behind the Mask"\n\n7:35 - Meet the horses and riders
X-ALT-DESC;FMTTYPE=text/html:This 2-hour event offers several short performances of &quot\;Behind the Mask&quot\; featuring the majestic black Friesian horses of Runnymede Farm as they perform their equestrian ballet. Come and go at leisure to catch a performance\, meet the horses and riders and enjoy the sparkling fire dances of Wick&#39\;d Fire. Plus\, children can take home a hand-crafted mask of your own!<br />\n<br />\n<strong>5:30 -&nbsp\;</strong>&ldquo\;Behind the Mask&rdquo\; - Historic Runnymede Farm performs synchronized &nbsp\;&nbsp\;&nbsp\;&nbsp\;&nbsp\;&nbsp\;&nbsp\;&nbsp\;&nbsp\;&nbsp\;&nbsp\;&nbsp\;moves onboard Friesian horses\, to mysterious music - in beautiful &nbsp\;&nbsp\;&nbsp\;&nbsp\;&nbsp\;&nbsp\;&nbsp\;&nbsp\;&nbsp\;&nbsp\;&nbsp\;&nbsp\;costumes.<br />\n<strong>5:35</strong>&nbsp\;- Meet the horses and riders of Historic Runnymede Farm.<br />\n<strong>5:45</strong>&nbsp\;- Make your own mask &ndash\; Kids can create their own masquerade-style face &nbsp\;&nbsp\;&nbsp\;&nbsp\;&nbsp\;&nbsp\;&nbsp\;&nbsp\;&nbsp\;&nbsp\;&nbsp\;mask just like the riders from Runnymede Farm. Continues all evening.<br />\n<strong>6:00</strong> - Wick&#39\;d Fire performs high energy feats of beauty and daring with Fire &nbsp\;&nbsp\;&nbsp\;&nbsp\;&nbsp\;&nbsp\;&nbsp\;&nbsp\;&nbsp\;&nbsp\;&nbsp\;&nbsp\;Parasol\, Fire Poi\, Fan and Staff<br />\n<strong>6:30</strong>&nbsp\;- &ldquo\;Behind the Mask&rdquo\;<br />\n<strong>6:35 </strong>- Meet the horses and riders<br />\n<strong>5:45</strong>&nbsp\;- Make your own mask<br />\n<strong>6:00</strong> -&nbsp\;Wick&#39\;d Fire<br />\n<strong>7:30</strong>&nbsp\;- &ldquo\;Behind the Mask&rdquo\;<br />\n<strong>7:35</strong> -&nbsp\;Meet the horses and riders
LOCATION:Strawbery Banke Museum 14 Hancock Street Portsmouth
UID:e.1659.27635
SEQUENCE:3
DTSTAMP:20260421T225518Z
URL:https://business.portsmouthchamber.org/events/details/strawbery-banke-museum-masques-on-the-banke-equestrian-enchantment-27635
END:VEVENT

END:VCALENDAR
