BEGIN:VCALENDAR
VERSION:2.0
PRODID:-//ChamberMaster//Event Calendar 2.0//EN
METHOD:PUBLISH
X-PUBLISHED-TTL:P3D
REFRESH-INTERVAL:P3D
CALSCALE:GREGORIAN
BEGIN:VEVENT
DTSTART:20161008T140000Z
DTEND:20161008T210000Z
X-MICROSOFT-CDO-ALLDAYEVENT:FALSE
SUMMARY:Strawbery Banke Museum's New Hampshire Fall Festival
DESCRIPTION:Celebrate harvest time with Strawbery Banke's fourth annual New Hampshire Fall Festival. Experience a traditional New England country fair complete with demonstrations from craftspeople\, heritage breed and farm animal exhibits\, farm animal and livestock demonstrations\, special autumn activities in the Center for Heirloom Garden Crafts\, presentations on heirloom seeds and food preservation tips\, fiber arts\, demonstrations and exhibits on historic crafts and industries\, coopering\, harvest-themed crafts in the Family Discovery Center\, garden tours and demonstrations.
X-ALT-DESC;FMTTYPE=text/html:Celebrate harvest time with Strawbery Banke&rsquo\;s fourth annual New Hampshire Fall Festival. Experience a traditional New England country fair complete with demonstrations from craftspeople\, heritage breed and farm animal exhibits\, farm animal and livestock demonstrations\, special autumn activities in the Center for Heirloom Garden Crafts\, presentations on heirloom seeds and food preservation tips\, fiber arts\, demonstrations and exhibits on historic crafts and industries\, coopering\, harvest-themed crafts in the Family Discovery Center\, garden tours and demonstrations.
LOCATION:Strawbery Banke Museum 14 Hancock Street Portsmouth\, NH
UID:e.1659.23849
SEQUENCE:3
DTSTAMP:20260421T225533Z
URL:https://business.portsmouthchamber.org/events/details/strawbery-banke-museum-s-new-hampshire-fall-festival-23849
END:VEVENT

END:VCALENDAR
