BEGIN:VCALENDAR
VERSION:2.0
PRODID:-//ChamberMaster//Event Calendar 2.0//EN
METHOD:PUBLISH
X-PUBLISHED-TTL:P3D
REFRESH-INTERVAL:P3D
CALSCALE:GREGORIAN
BEGIN:VEVENT
DTSTART:20161105T140000Z
DTEND:20161105T180000Z
X-MICROSOFT-CDO-ALLDAYEVENT:FALSE
SUMMARY:Strawbery Banke Museum takes you through Three Centuries of Thanksgiving: An Interactive Walking Tour
DESCRIPTION:Offered on weekends (only) in November\, this 90-minute interactive guided tour traces the evolution of Thanksgiving from the Puritans? holy day of thanks to today?s family feast and homecoming. In this active\, fast-paced\, and multi-sensory program\, discover how Thanksgiving transcended time\, place and culture to become the uniquely American holiday celebrated today. Meet costumed roleplayers\, create a harvest craft\, and explore homes from three centuries. In small groups guided by a museum educator\, find the common themes of this holiday over three hundred years: charity\, survival\, gratitude\, national identity\, and the celebration of family and community. Recommended for ages 5 and up.
X-ALT-DESC;FMTTYPE=text/html:Offered on weekends (only) in November\, this 90-minute interactive guided tour traces the evolution of Thanksgiving from the Puritans? holy day of thanks to today?s family feast and homecoming. In this active\, fast-paced\, and multi-sensory program\, discover how Thanksgiving transcended time\, place and culture to become the uniquely American holiday celebrated today. Meet costumed roleplayers\, create a harvest craft\, and explore homes from three centuries. In small groups guided by a museum educator\, find the common themes of this holiday over three hundred years: charity\, survival\, gratitude\, national identity\, and the celebration of family and community. Recommended for ages 5 and up.
LOCATION:Strawbery Banke Museum 14 Hancock St\, Portsmouth
UID:e.1659.27639
SEQUENCE:3
DTSTAMP:20260421T225428Z
URL:https://business.portsmouthchamber.org/events/details/strawbery-banke-museum-takes-you-through-three-centuries-of-thanksgiving-an-interactive-walking-tour-27639
END:VEVENT

END:VCALENDAR
