BEGIN:VCALENDAR
VERSION:2.0
PRODID:-//ChamberMaster//Event Calendar 2.0//EN
METHOD:PUBLISH
X-PUBLISHED-TTL:P3D
REFRESH-INTERVAL:P3D
CALSCALE:GREGORIAN
BEGIN:VEVENT
DTSTART:20161105T150000Z
DTEND:20161105T190000Z
X-MICROSOFT-CDO-ALLDAYEVENT:FALSE
SUMMARY:Strawbery Banke Museum welcomes local authors for the Children's Authors Festival
DESCRIPTION:The Children's Author Festival welcomes 20 local children's book authors and illustrators to read from and sign their books\, available for purchase at the event. Games\, prizes and book-related activities are all part of the fun. Children 12 and under receive a ticket for free skating (in season) at the Museum's outdoor Labrie Family Skate.
X-ALT-DESC;FMTTYPE=text/html:The Children&rsquo\;s Author Festival welcomes 20 local children&rsquo\;s book authors and illustrators to read from and sign their books\, available for purchase at the event. Games\, prizes and book-related activities are all part of the fun. Children 12 and under receive a ticket for free skating (in season) at the Museum&rsquo\;s outdoor Labrie Family Skate.
LOCATION:Strawbery Banke Museum TYCO Visitor Center Lecture Hall
UID:e.1659.27636
SEQUENCE:3
DTSTAMP:20260421T213547Z
URL:https://business.portsmouthchamber.org/events/details/strawbery-banke-museum-welcomes-local-authors-for-the-children-s-authors-festival-11-05-2016-27636
END:VEVENT

END:VCALENDAR
