BEGIN:VCALENDAR
VERSION:2.0
PRODID:-//ChamberMaster//Event Calendar 2.0//EN
METHOD:PUBLISH
X-PUBLISHED-TTL:P3D
REFRESH-INTERVAL:P3D
CALSCALE:GREGORIAN
BEGIN:VEVENT
DTSTART:20170114T190000Z
DTEND:20170114T200000Z
X-MICROSOFT-CDO-ALLDAYEVENT:FALSE
SUMMARY:Strawbery Banke- Seacoast Winter Party on Ice
DESCRIPTION:Produced by Ice Dance International Events\, Seacoast Winter Party On Ice showcases a cast of internationally known competitors and performers\, highlighted by two-time United States National Champion Alissa Czisny. The show features skaters performing routines to hit songs and include performances by local competitors.
X-ALT-DESC;FMTTYPE=text/html:Produced by Ice Dance International Events\, Seacoast Winter Party On Ice showcases a cast of internationally known competitors and performers\, highlighted by two-time United States National Champion Alissa Czisny. The show features skaters performing routines to hit songs and include performances by local competitors.
LOCATION:Puddle Dock Pond at Strawbery Banke Museum 14 Hancock St\, Portsmouth
UID:e.1659.29599
SEQUENCE:3
DTSTAMP:20260421T193002Z
URL:https://business.portsmouthchamber.org/events/details/strawbery-banke-seacoast-winter-party-on-ice-29599
END:VEVENT

END:VCALENDAR
