BEGIN:VCALENDAR
VERSION:2.0
PRODID:-//ChamberMaster//Event Calendar 2.0//EN
METHOD:PUBLISH
X-PUBLISHED-TTL:P3D
REFRESH-INTERVAL:P3D
CALSCALE:GREGORIAN
BEGIN:VEVENT
DTSTART:20140806T210000Z
DTEND:20140807T010000Z
X-MICROSOFT-CDO-ALLDAYEVENT:FALSE
SUMMARY:STREET.life! 2014
DESCRIPTION:#PortsmouthStreetLife\n\n\n\nThank you to our Platinum sponsor\, Service Credit Union! \n\nAdditional Thanks to Our Other Sponsors & Supporters:  \n\nPublic Service of NH\n\nFairpoint Communications\n\nTwo International Group\n\nPortsmouth Regional Hospital\n\nPike Industries\n\nDarci Creative\n\nSmuttynose\n\nOptima Bank\n\nFederal Savings Bank\n\nCP Management\n\nNewburyport Five Cent Savings Bank\n\nPixel Media\n\nColwen Hotels\n\nRBC Wealth Management\n\nDaystar\n\nAvery Insurance\n\nSheraton Harborside Hotel\n\nComcast Business\n\nBaker Newman & Noyes
X-ALT-DESC;FMTTYPE=text/html:<p><span style="color: rgb(128\, 0\, 128)\;"><strong>#PortsmouthStreetLife</strong></span><br />\n<br />\n<em><span style="font-size:10px\;">Thank you to our Platinum sponsor\, Service Credit Union!&nbsp\;</span></em></p>\n\n<p><em><span style="font-size:10px\;">Additional Thanks to Our Other Sponsors &amp\; Supporters: &nbsp\;<br />\nPublic Service of NH<br />\nFairpoint Communications<br />\nTwo International Group<br />\nPortsmouth Regional Hospital<br />\nPike Industries<br />\nDarci Creative<br />\nSmuttynose<br />\nOptima Bank<br />\nFederal Savings Bank<br />\nCP Management<br />\nNewburyport Five Cent Savings Bank<br />\nPixel Media<br />\nColwen Hotels<br />\nRBC Wealth Management<br />\nDaystar<br />\nAvery Insurance<br />\nSheraton Harborside Hotel<br />\nComcast Business<br />\nBaker Newman &amp\; Noyes</span></em><br />\n&nbsp\;</p>\n
LOCATION:Pleasant Street in downtown Portsmouth\, NH
UID:e.1659.2199
SEQUENCE:3
DTSTAMP:20260419T174454Z
URL:https://business.portsmouthchamber.org/events/details/street-life-2014-08-06-2014-2199
END:VEVENT

END:VCALENDAR
