BEGIN:VCALENDAR
VERSION:2.0
PRODID:-//ChamberMaster//Event Calendar 2.0//EN
METHOD:PUBLISH
X-PUBLISHED-TTL:P3D
REFRESH-INTERVAL:P3D
CALSCALE:GREGORIAN
BEGIN:VEVENT
DTSTART:20160306T180000Z
DTEND:20160306T200000Z
X-MICROSOFT-CDO-ALLDAYEVENT:FALSE
SUMMARY:Sunday Cinema: Jane B. Par Agnes V.
DESCRIPTION:Join us for our weekend matinee film series\, Sunday Cinema\, with a screening of Jane B. Par Agnes V.\, a film by Agn s Varda.  \n\n\n\n"I'll look at you\, but not at the camera. It could be a trap\," whispers Jane Birkin shyly into Agn s Varda's ear at the start of JANE B. PAR AGN S V. The director of CLEO FROM 5 TO 7 and VAGABOND once again paints a portrait of a woman\, this time in a marvelously Expressionistic way.\n\n\n\n"It's like an imaginary bio-pic\," says Varda. Jane\, of course\, is the famed singer ("Je t'aime   Moi non plus")\, actress (BLOW UP)\, fashion icon (the Hermes Birkin bag) and longtime muse to Serge Gainsbourg. As Varda implies\, JANE B. PAR AGN S V. abandons the traditional bio-pic format\, favoring instead a freewheeling mix of gorgeous and unexpected fantasy sequences. In each\, Jane inhabits a new character\, playing a cat & mouse game with Varda as they explore the role of the Muse and the Artist\, all the while showcasing the multifaceted nature of Birkin's talent. \n\n\n\n"I'd like to be filmed as if I were transparent\, anonymous\, like everyone else\," says Birkin. But her wish to be a "famous nobody" is impossible to achieve\; Birkin is simply too magnificent\, too mesmerizing. Here\, Varda's signature mix of aesthetic innovation and generosity of emotion results in a surreal and captivating essay on Art\, Fame\, Love\, Children and Staircases. For its first ever U.S. theatrical release the film has been newly-restored from the original 35mm camera negative\, overseen by director Varda herself.\n\n\n\n97 min | Stereo | France | Not Rated
X-ALT-DESC;FMTTYPE=text/html:Join us for our weekend matinee film series\, Sunday Cinema\, with a screening of Jane B. Par Agnes V.\, a film by Agn&egrave\;s Varda.&nbsp\;&nbsp\;<br />\n<br />\n&ldquo\;I&rsquo\;ll look at you\, but not at the camera. It could be a trap\,&rdquo\; whispers Jane Birkin shyly into Agn&egrave\;s&nbsp\;Varda&rsquo\;s ear at the start of JANE B. PAR AGN&Egrave\;S V. The director of CLEO FROM 5 TO 7 and VAGABOND&nbsp\;once again paints a portrait of a woman\, this time in a marvelously Expressionistic way.<br />\n<br />\n&ldquo\;It&rsquo\;s like an imaginary bio-pic\,&rdquo\; says Varda. Jane\, of course\, is the famed singer (&ldquo\;Je t&rsquo\;aime &hellip\; Moi&nbsp\;non plus&rdquo\;)\, actress (BLOW UP)\, fashion icon (the Hermes Birkin bag) and longtime muse to Serge&nbsp\;Gainsbourg. As Varda implies\, JANE B. PAR AGN&Egrave\;S V. abandons the traditional bio-pic format\,&nbsp\;favoring instead a freewheeling mix of gorgeous and unexpected fantasy sequences.&nbsp\;In each\, Jane inhabits a new character\, playing a cat &amp\; mouse game with Varda as they explore&nbsp\;the role of the Muse and the Artist\, all the while showcasing the multifaceted nature of Birkin&rsquo\;s talent.&nbsp\;<br />\n<br />\n&ldquo\;I&rsquo\;d like to be filmed as if I were transparent\, anonymous\, like everyone else\,&rdquo\; says Birkin. But&nbsp\;her wish to be a &ldquo\;famous nobody&rdquo\; is impossible to achieve\; Birkin is simply too magnificent\, too&nbsp\;mesmerizing. Here\, Varda&rsquo\;s signature mix of aesthetic innovation and generosity of emotion results&nbsp\;in a surreal and captivating essay on Art\, Fame\, Love\, Children and Staircases. For its first ever&nbsp\;U.S. theatrical release the film has been newly-restored from the original 35mm camera negative\,&nbsp\;overseen by director Varda herself.<br />\n<br />\n97 min | Stereo | France | Not Rated
LOCATION:3S Artspace 319 Vaughan Street\, Portsmouth
UID:e.1659.17882
SEQUENCE:3
DTSTAMP:20260420T145858Z
URL:https://business.portsmouthchamber.org/events/details/sunday-cinema-jane-b-par-agnes-v-03-06-2016-17882
END:VEVENT

END:VCALENDAR
