BEGIN:VCALENDAR
VERSION:2.0
PRODID:-//ChamberMaster//Event Calendar 2.0//EN
METHOD:PUBLISH
X-PUBLISHED-TTL:P3D
REFRESH-INTERVAL:P3D
CALSCALE:GREGORIAN
BEGIN:VEVENT
DTSTART:20160320T170000Z
DTEND:20160320T190000Z
X-MICROSOFT-CDO-ALLDAYEVENT:FALSE
SUMMARY:Sunday Cinema: Stretch and Bobbito: Radio That Changed Lives
DESCRIPTION:During the 1990s\, Stretch and Bobbito introduced the world to an unsigned Nas\, Biggie\, Wu-Tang\, and Big Pun as well as an unknown Jay-Z\, Eminem\, and the Fugees. The total record sales for all the artists that premiered on their radio show exceed 300 million. The late night program had a cult following in the art/fashion world and prison population as well. All would loyally tune in for the humor just as much for the exclusive tunes. Stretch and Bobbito brought a unique audience together\, and created a platform that changed music forever.\n\n\n\nDirected by Bobbito Garcia\n\n\n\n98 minutes. Saboteur Films\, 2015
X-ALT-DESC;FMTTYPE=text/html:During the 1990s\,&nbsp\;Stretch and Bobbito&nbsp\;introduced the world to an unsigned Nas\, Biggie\, Wu-Tang\, and Big Pun as well as an unknown Jay-Z\, Eminem\, and the Fugees. The total record sales for all the artists that premiered on their radio show exceed 300 million. The late night program had a cult following in the art/fashion world and prison population as well. All would loyally tune in for the humor just as much for the exclusive tunes. Stretch and Bobbito brought a unique audience together\, and created a platform that changed music forever.<br />\n<br />\nDirected by Bobbito Garcia<br />\n<br />\n98 minutes. Saboteur Films\, 2015
LOCATION:3S Artspace 319 Vaughan Street\, Portsmouth
UID:e.1659.17901
SEQUENCE:3
DTSTAMP:20260420T150246Z
URL:https://business.portsmouthchamber.org/events/details/sunday-cinema-stretch-and-bobbito-radio-that-changed-lives-03-20-2016-17901
END:VEVENT

END:VCALENDAR
