BEGIN:VCALENDAR
VERSION:2.0
PRODID:-//ChamberMaster//Event Calendar 2.0//EN
METHOD:PUBLISH
X-PUBLISHED-TTL:P3D
REFRESH-INTERVAL:P3D
CALSCALE:GREGORIAN
BEGIN:VEVENT
DTSTART:20140620T230000Z
DTEND:20140621T013000Z
X-MICROSOFT-CDO-ALLDAYEVENT:FALSE
SUMMARY:Sunset Lighthouse Cruise
DESCRIPTION:Join Friends of Portsmouth Harbor Lighthouses near the summer solstice for the annual Sunset Lighthouse Cruise aboard the M/V Granite State\, departing from Rye Harbor on Route 1A in Rye\, NH. The cruise will pass close to Portsmouth Harbor Lighthouse\,  Whaleback Lighthouse\, and White Island Lighthouse in the Isles of Shoals. This is always a fun trip with lots of raffle prizes. It will be narrated by lighthouse historian/author Jeremy D?Entremont. There is a snack bar on board.
X-ALT-DESC;FMTTYPE=text/html:Join Friends of Portsmouth Harbor Lighthouses near the summer solstice for the annual Sunset Lighthouse Cruise aboard the M/V Granite State\, departing from Rye Harbor on Route 1A in Rye\, NH. The cruise will pass close to Portsmouth Harbor Lighthouse\, &nbsp\;Whaleback Lighthouse\, and White Island Lighthouse in the Isles of Shoals. This is always a fun trip with lots of raffle prizes. It will be narrated by lighthouse historian/author Jeremy D?Entremont.&nbsp\;There is a snack bar on board.&nbsp\;
LOCATION:Rye Harbor State Marina\, Route 1A\, Rye\, NH
UID:e.1659.1621
SEQUENCE:3
DTSTAMP:20260419T200957Z
URL:https://business.portsmouthchamber.org/events/details/sunset-lighthouse-cruise-06-20-2014-1621
END:VEVENT

END:VCALENDAR
