BEGIN:VCALENDAR
VERSION:2.0
PRODID:-//ChamberMaster//Event Calendar 2.0//EN
METHOD:PUBLISH
X-PUBLISHED-TTL:P3D
REFRESH-INTERVAL:P3D
CALSCALE:GREGORIAN
BEGIN:VEVENT
DTSTART:20161210T153000Z
DTEND:20161210T190000Z
X-MICROSOFT-CDO-ALLDAYEVENT:FALSE
SUMMARY:Support Families First in the LuLaRoe Fundraiser
DESCRIPTION:Multiple consultants for LuLaRoe\, a clothing line designed to fit women of all ages\, sizes\, and shapes\, will be holding a fundraiser for Families First on Saturday\, December 10th from 10:30am-2:00pm at the Best Western at the traffic circle in Portsmouth\, NH. You will be able to shop with 12 LuLaRoe Consultants while supporting Families First! $3-$6 will be donated to Families First for each item sold. Everyone who brings a donation will be entered to win a YEAR of LEGGINGS! (12 pair of leggings) Come out and find a new holiday dress\, comfy leggings\, warm Sarahs and Lindsays\, and finish your holiday gift shopping all in one place.
X-ALT-DESC;FMTTYPE=text/html:Multiple consultants for LuLaRoe\, a clothing line designed to fit women of all ages\, sizes\, and shapes\, will be holding a fundraiser for Families First on Saturday\, December 10th from 10:30am-2:00pm at the Best Western at the traffic circle in Portsmouth\, NH. You will be able to shop with 12 LuLaRoe Consultants while supporting Families First! $3-$6 will be donated to Families First for each item sold. Everyone who brings a donation will be entered to win a YEAR of LEGGINGS! (12 pair of leggings) Come out and find a new holiday dress\, comfy leggings\, warm Sarahs and Lindsays\, and finish your holiday gift shopping all in one place.
LOCATION:Best Western 580 US Highway 1 Bypass Interstate Traffic Circle Portsmouth\, NH 03801
UID:e.1659.28145
SEQUENCE:3
DTSTAMP:20260421T192829Z
URL:https://business.portsmouthchamber.org/events/details/support-families-first-in-the-lularoe-fundraiser-28145
END:VEVENT

END:VCALENDAR
