BEGIN:VCALENDAR
VERSION:2.0
PRODID:-//ChamberMaster//Event Calendar 2.0//EN
METHOD:PUBLISH
X-PUBLISHED-TTL:P3D
REFRESH-INTERVAL:P3D
CALSCALE:GREGORIAN
BEGIN:VEVENT
DTSTART:20161022T120000Z
DTEND:20161022T170000Z
X-MICROSOFT-CDO-ALLDAYEVENT:FALSE
SUMMARY:Support the Portsmouth Halloween Parade: Smash a Pumpkin at City Hall!
DESCRIPTION:Smash a pumpkin\, support the parade! It's that easy. Pick a pumpkin from the pile\, choose from an arsenal of mallets\, two by fours or the trusty ol' Louisville Slugger and swing away. A Portsmouth Halloween tradition that has become the October catharsis of choice for young and old alike. $5/Pumpkin\, Smashing implements supplied!
X-ALT-DESC;FMTTYPE=text/html:Smash a pumpkin\, support the parade! It&rsquo\;s that easy. Pick a pumpkin from the pile\, choose from an arsenal of mallets\, two by fours or the trusty ol&rsquo\; Louisville Slugger and swing away. A Portsmouth Halloween tradition that has become the October catharsis of choice for young and old alike. $5/Pumpkin\, Smashing implements supplied!
LOCATION:City Hall 1 Junkins Ave.\, Portsmouth
UID:e.1659.27615
SEQUENCE:3
DTSTAMP:20260421T225732Z
URL:https://business.portsmouthchamber.org/events/details/support-the-portsmouth-halloween-parade-smash-a-pumpkin-at-city-hall-27615
END:VEVENT

END:VCALENDAR
