BEGIN:VCALENDAR
VERSION:2.0
PRODID:-//ChamberMaster//Event Calendar 2.0//EN
METHOD:PUBLISH
X-PUBLISHED-TTL:P3D
REFRESH-INTERVAL:P3D
CALSCALE:GREGORIAN
BEGIN:VEVENT
DTSTART:20170610T163000Z
DTEND:20170610T180000Z
X-MICROSOFT-CDO-ALLDAYEVENT:FALSE
SUMMARY:Take a Gundalow Ride & Kids Sail Free!
DESCRIPTION:Sail aboard the Piscataqua\, a traditional reproduction of the flat-bottom gundalow barges that were once prevalent along local waterways. Educational\, informative and fun perfect for kids to explore the sights and sounds of the Piscataqua River. One free child admitted with each adult ticket purchased\, and you can purchase additional child tickets\, if needed. You are welcome to bring a picnic and beverages of your choice on this sail.
X-ALT-DESC;FMTTYPE=text/html:Sail aboard the Piscataqua\, a traditional reproduction of the flat-bottom gundalow barges that were once prevalent along local waterways. Educational\, informative and fun perfect for kids to explore the sights and sounds of the Piscataqua River. <strong>One free child admitted with each adult ticket purchased\, and you can purchase additional child tickets\,</strong> if needed. You are welcome to bring a picnic and beverages of your choice on this sail.
LOCATION:Gundalow Company 60 Marcy St\, Portsmouth
UID:e.1659.31579
SEQUENCE:3
DTSTAMP:20260419T115128Z
URL:https://business.portsmouthchamber.org/events/details/take-a-gundalow-ride-kids-sail-free-31579
END:VEVENT

END:VCALENDAR
