BEGIN:VCALENDAR
VERSION:2.0
PRODID:-//ChamberMaster//Event Calendar 2.0//EN
METHOD:PUBLISH
X-PUBLISHED-TTL:P3D
REFRESH-INTERVAL:P3D
CALSCALE:GREGORIAN
BEGIN:VEVENT
DTSTART:20170611T160000Z
DTEND:20170611T173000Z
X-MICROSOFT-CDO-ALLDAYEVENT:FALSE
SUMMARY:Take the Gundalow on a History Sail
DESCRIPTION:Sail aboard the Piscataqua\, a traditional reproduction of the flat-bottom gundalow barges that were once prevalent along local waterways. Educational\, informative and fun\, a sail is a great way to explore the sights and sounds of the Piscataqua River. You are welcome to bring a picnic and beverages of your choice on this sail.
X-ALT-DESC;FMTTYPE=text/html:Sail aboard the Piscataqua\, a traditional reproduction of the flat-bottom gundalow barges that were once prevalent along local waterways. Educational\, informative and fun\, a sail is a great way to explore the sights and sounds of the Piscataqua River. You are welcome to bring a picnic and beverages of your choice on this sail.
LOCATION:Gundalow Company 60 Marcy St\, Portsmouth
UID:e.1659.31633
SEQUENCE:3
DTSTAMP:20260419T120001Z
URL:https://business.portsmouthchamber.org/events/details/take-the-gundalow-on-a-history-sail-31633
END:VEVENT

END:VCALENDAR
