BEGIN:VCALENDAR
VERSION:2.0
PRODID:-//ChamberMaster//Event Calendar 2.0//EN
METHOD:PUBLISH
X-PUBLISHED-TTL:P3D
REFRESH-INTERVAL:P3D
CALSCALE:GREGORIAN
BEGIN:VEVENT
DTSTART:20140625T223000Z
DTEND:20140626T020000Z
X-MICROSOFT-CDO-ALLDAYEVENT:FALSE
SUMMARY:Taste of the Nation Portsmouth
DESCRIPTION:The 2014 Taste of the Nation Portsmouth will be held on Wednesday\, June 25\, 2014 at The Strawbery Banke Museum. This year's Taste promises to be the best yet\, featuring incredible food and drink from the top restaurants and brewers on the Seacoast\, a fabulous silent auction with rare items and experiences\, a VIP lounge\, and music so you can dance the night away!
X-ALT-DESC;FMTTYPE=text/html:<span style="background-color: rgb(255\, 255\, 255)\;"><span style="font-size: 13px\;"><span style="font-family: nimbus-sans\,arial\,sans-serif\;"><span style="color: rgb(98\, 98\, 98)\;">The 2014 Taste of the Nation Portsmouth will be held on Wednesday\, June 25\, 2014 at The Strawbery Banke Museum. This year&#39\;s Taste promises to be the best yet\, featuring incredible food and drink from the top restaurants and brewers on the Seacoast\, a fabulous silent auction with rare items and experiences\, a VIP lounge\, and music so you can dance the night away!</span></span></span></span>
LOCATION:
UID:e.1659.2123
SEQUENCE:3
DTSTAMP:20260419T203231Z
URL:https://business.portsmouthchamber.org/events/details/taste-of-the-nation-portsmouth-06-25-2014-2123
END:VEVENT

END:VCALENDAR
