BEGIN:VCALENDAR
VERSION:2.0
PRODID:-//ChamberMaster//Event Calendar 2.0//EN
METHOD:PUBLISH
X-PUBLISHED-TTL:P3D
REFRESH-INTERVAL:P3D
CALSCALE:GREGORIAN
BEGIN:VEVENT
DTSTART;VALUE=DATE:20130920
DTEND;VALUE=DATE:20130923
TRANSP:TRANSPARENT
X-MICROSOFT-CDO-ALLDAYEVENT:TRUE
SUMMARY:Telluride by the Sea
DESCRIPTION:The Music Hall and the Telluride Film Festival collaborate on an exclusive presentation of six new features\, brought directly from their Colorado debuts. This unique and intimate Portsmouth event treats audience members from across the Northeast to an exclusive peek into the Telluride experience - packing one September weekend in Portsmouth with the latest international cinema\, private parties\, great music\, delicious food\, and inspired conversations with other cinephiles of all ages\, tastes and backgrounds. According to Patricia Lynch\, executive director of The Music Hall\, "Portsmouth is the perfect town for this perfect weekend. With its charming mix of history\, salt air\, and film lovers\, Portsmouth buzzes when Telluride by the Sea arrives. The streets are filled with people stopping one another to talk about the films\, the restaurants are jumping. It's a moving party!"
X-ALT-DESC;FMTTYPE=text/html:<span style="color: rgb(102\, 102\, 102)\; font-family: 'Droid Sans'\, 'Lucida Grande'\, Arial\, sans-serif\; font-size: 14px\; line-height: 22px\;">The Music Hall and the Telluride Film Festival collaborate on an exclusive presentation of six new features\, brought directly from their Colorado debuts. This unique and intimate Portsmouth event treats audience members from across the Northeast to an exclusive peek into the Telluride experience - packing one September weekend in Portsmouth with the latest international cinema\, private parties\, great music\, delicious food\, and inspired conversations with other cinephiles of all ages\, tastes and backgrounds. According to Patricia Lynch\, executive director of The Music Hall\, &ldquo\;Portsmouth is the perfect town for this perfect weekend. With its charming mix of history\, salt air\, and film lovers\, Portsmouth buzzes when Telluride by the Sea arrives. The streets are filled with people stopping one another to talk about the films\, the restaurants are jumping. It&rsquo\;s a moving party!&rdquo\;</span>
LOCATION:The Music Hall 28 Chestnut Street Portsmouth\, NH 03801
UID:e.1659.579
SEQUENCE:3
DTSTAMP:20260420T084923Z
URL:https://business.portsmouthchamber.org/events/details/telluride-by-the-sea-09-20-2013-579
END:VEVENT

END:VCALENDAR
